Workbook
Name cal.year: Customizations!$C$4
Name holiday_dates: #REF!
Name icon_types: icons[Type]
Name month.nums: Calc!$C$13:$C$84
Name monthly.calendar: Calc!$D$13:$J$84
Name months.list: _xlfn.ANCHORARRAY(Calc!$V$13)
Name planner_dates: Plan[Date]
Name show.planner: Customizations!$C$7
Name week.start: Customizations!$C$5
Name weekend.type: Customizations!$C$6

Sheet Calendar
C1: Calendar & Scheduler Template (2026)
C4: =cal.year&" Calendar" -> 2026 Calendar
C6: 1 | D6: =TEXT(C9,"MMMM") -> January | K6: 2 | L6: =TEXT(K9,"MMMM") -> February | S6: 3 | T6: =TEXT(S9,"MMMM") -> March | AA6: 4 | AB6: =TEXT(AA9,"MMMM") -> April | AI6: Upcoming Activities
C7: =LEFT(TEXT(C9,"DDD"),1) -> M | D7: =LEFT(TEXT(D9,"DDD"),1) -> T | E7: =LEFT(TEXT(E9,"DDD"),1) -> W | F7: =LEFT(TEXT(F9,"DDD"),1) -> T | G7: =LEFT(TEXT(G9,"DDD"),1) -> F | H7: =LEFT(TEXT(H9,"DDD"),1) -> S | I7: =LEFT(TEXT(I9,"DDD"),1) -> S | K7: =LEFT(TEXT(K9,"DDD"),1) -> M | L7: =LEFT(TEXT(L9,"DDD"),1) -> T | M7: =LEFT(TEXT(M9,"DDD"),1) -> W | N7: =LEFT(TEXT(N9,"DDD"),1) -> T | O7: =LEFT(TEXT(O9,"DDD"),1) -> F | P7: =LEFT(TEXT(P9,"DDD"),1) -> S | Q7: =LEFT(TEXT(Q9,"DDD"),1) -> S | S7: =LEFT(TEXT(S9,"DDD"),1) -> M | T7: =LEFT(TEXT(T9,"DDD"),1) -> T | U7: =LEFT(TEXT(U9,"DDD"),1) -> W | V7: =LEFT(TEXT(V9,"DDD"),1) -> T | W7: =LEFT(TEXT(W9,"DDD"),1) -> F | X7: =LEFT(TEXT(X9,"DDD"),1) -> S | Y7: =LEFT(TEXT(Y9,"DDD"),1) -> S | AA7: =LEFT(TEXT(AA9,"DDD"),1) -> M | AB7: =LEFT(TEXT(AB9,"DDD"),1) -> T | AC7: =LEFT(TEXT(AC9,"DDD"),1) -> W | AD7: =LEFT(TEXT(AD9,"DDD"),1) -> T | AE7: =LEFT(TEXT(AE9,"DDD"),1) -> F | AF7: =LEFT(TEXT(AF9,"DDD"),1) -> S | AG7: =LEFT(TEXT(AG9,"DDD"),1) -> S
C8: {=_xlfn.LET(_xlpm.dt, _xlfn._xlws.FILTER(monthly.calendar, month.nums=C6), IF(MONTH(_xlpm.dt)<>C6,"",_xlpm.dt))} | F8: 46023 | G8: 46024 | H8: 46025 | I8: 46026 | K8: {=_xlfn.LET(_xlpm.dt, _xlfn._xlws.FILTER(monthly.calendar, month.nums=K6), IF(MONTH(_xlpm.dt)<>K6,"",_xlpm.dt))} | Q8: 46054 | S8: {=_xlfn.LET(_xlpm.dt, _xlfn._xlws.FILTER(monthly.calendar, month.nums=S6), IF(MONTH(_xlpm.dt)<>S6,"",_xlpm.dt))} | Y8: 46082 | AA8: {=_xlfn.LET(_xlpm.dt, _xlfn._xlws.FILTER(monthly.calendar, month.nums=AA6), IF(MONTH(_xlpm.dt)<>AA6,"",_xlpm.dt))} | AC8: 46113 | AD8: 46114 | AE8: 46115 | AF8: 46116 | AG8: 46117
C9: 46027 | D9: 46028 | E9: 46029 | F9: 46030 | G9: 46031 | H9: 46032 | I9: 46033 | K9: 46055 | L9: 46056 | M9: 46057 | N9: 46058 | O9: 46059 | P9: 46060 | Q9: 46061 | S9: 46083 | T9: 46084 | U9: 46085 | V9: 46086 | W9: 46087 | X9: 46088 | Y9: 46089 | AA9: 46118 | AB9: 46119 | AC9: 46120 | AD9: 46121 | AE9: 46122 | AF9: 46123 | AG9: 46124
C10: 46034 | D10: 46035 | E10: 46036 | F10: 46037 | G10: 46038 | H10: 46039 | I10: 46040 | K10: 46062 | L10: 46063 | M10: 46064 | N10: 46065 | O10: 46066 | P10: 46067 | Q10: 46068 | S10: 46090 | T10: 46091 | U10: 46092 | V10: 46093 | W10: 46094 | X10: 46095 | Y10: 46096 | AA10: 46125 | AB10: 46126 | AC10: 46127 | AD10: 46128 | AE10: 46129 | AF10: 46130 | AG10: 46131
C11: 46041 | D11: 46042 | E11: 46043 | F11: 46044 | G11: 46045 | H11: 46046 | I11: 46047 | K11: 46069 | L11: 46070 | M11: 46071 | N11: 46072 | O11: 46073 | P11: 46074 | Q11: 46075 | S11: 46097 | T11: 46098 | U11: 46099 | V11: 46100 | W11: 46101 | X11: 46102 | Y11: 46103 | AA11: 46132 | AB11: 46133 | AC11: 46134 | AD11: 46135 | AE11: 46136 | AF11: 46137 | AG11: 46138
C12: 46048 | D12: 46049 | E12: 46050 | F12: 46051 | G12: 46052 | H12: 46053 | K12: 46076 | L12: 46077 | M12: 46078 | N12: 46079 | O12: 46080 | P12: 46081 | S12: 46104 | T12: 46105 | U12: 46106 | V12: 46107 | W12: 46108 | X12: 46109 | Y12: 46110 | AA12: 46139 | AB12: 46140 | AC12: 46141 | AD12: 46142
S13: 46111 | T13: 46112
C15: 5 | D15: =TEXT(C18,"MMMM") -> May | K15: 6 | L15: =TEXT(K18,"MMMM") -> June | S15: 7 | T15: =TEXT(S18,"MMMM") -> July | AA15: 8 | AB15: =TEXT(AA18,"MMMM") -> August
C16: =LEFT(TEXT(C18,"DDD"),1) -> M | D16: =LEFT(TEXT(D18,"DDD"),1) -> T | E16: =LEFT(TEXT(E18,"DDD"),1) -> W | F16: =LEFT(TEXT(F18,"DDD"),1) -> T | G16: =LEFT(TEXT(G18,"DDD"),1) -> F | H16: =LEFT(TEXT(H18,"DDD"),1) -> S | I16: =LEFT(TEXT(I18,"DDD"),1) -> S | K16: =LEFT(TEXT(K18,"DDD"),1) -> M | L16: =LEFT(TEXT(L18,"DDD"),1) -> T | M16: =LEFT(TEXT(M18,"DDD"),1) -> W | N16: =LEFT(TEXT(N18,"DDD"),1) -> T | O16: =LEFT(TEXT(O18,"DDD"),1) -> F | P16: =LEFT(TEXT(P18,"DDD"),1) -> S | Q16: =LEFT(TEXT(Q18,"DDD"),1) -> S | S16: =LEFT(TEXT(S18,"DDD"),1) -> M | T16: =LEFT(TEXT(T18,"DDD"),1) -> T | U16: =LEFT(TEXT(U18,"DDD"),1) -> W | V16: =LEFT(TEXT(V18,"DDD"),1) -> T | W16: =LEFT(TEXT(W18,"DDD"),1) -> F | X16: =LEFT(TEXT(X18,"DDD"),1) -> S | Y16: =LEFT(TEXT(Y18,"DDD"),1) -> S | AA16: =LEFT(TEXT(AA18,"DDD"),1) -> M | AB16: =LEFT(TEXT(AB18,"DDD"),1) -> T | AC16: =LEFT(TEXT(AC18,"DDD"),1) -> W | AD16: =LEFT(TEXT(AD18,"DDD"),1) -> T | AE16: =LEFT(TEXT(AE18,"DDD"),1) -> F | AF16: =LEFT(TEXT(AF18,"DDD"),1) -> S | AG16: =LEFT(TEXT(AG18,"DDD"),1) -> S
C17: {=_xlfn.LET(_xlpm.dt, _xlfn._xlws.FILTER(monthly.calendar, month.nums=C15), IF(MONTH(_xlpm.dt)<>C15,"",_xlpm.dt))} | G17: 46143 | H17: 46144 | I17: 46145 | K17: {=_xlfn.LET(_xlpm.dt, _xlfn._xlws.FILTER(monthly.calendar, month.nums=K15), IF(MONTH(_xlpm.dt)<>K15,"",_xlpm.dt))} -> 46174 | L17: 46175 | M17: 46176 | N17: 46177 | O17: 46178 | P17: 46179 | Q17: 46180 | S17: {=_xlfn.LET(_xlpm.dt, _xlfn._xlws.FILTER(monthly.calendar, month.nums=S15), IF(MONTH(_xlpm.dt)<>S15,"",_xlpm.dt))} | U17: 46204 | V17: 46205 | W17: 46206 | X17: 46207 | Y17: 46208 | AA17: {=_xlfn.LET(_xlpm.dt, _xlfn._xlws.FILTER(monthly.calendar, month.nums=AA15), IF(MONTH(_xlpm.dt)<>AA15,"",_xlpm.dt))} | AF17: 46235 | AG17: 46236
C18: 46146 | D18: 46147 | E18: 46148 | F18: 46149 | G18: 46150 | H18: 46151 | I18: 46152 | K18: 46181 | L18: 46182 | M18: 46183 | N18: 46184 | O18: 46185 | P18: 46186 | Q18: 46187 | S18: 46209 | T18: 46210 | U18: 46211 | V18: 46212 | W18: 46213 | X18: 46214 | Y18: 46215 | AA18: 46237 | AB18: 46238 | AC18: 46239 | AD18: 46240 | AE18: 46241 | AF18: 46242 | AG18: 46243
C19: 46153 | D19: 46154 | E19: 46155 | F19: 46156 | G19: 46157 | H19: 46158 | I19: 46159 | K19: 46188 | L19: 46189 | M19: 46190 | N19: 46191 | O19: 46192 | P19: 46193 | Q19: 46194 | S19: 46216 | T19: 46217 | U19: 46218 | V19: 46219 | W19: 46220 | X19: 46221 | Y19: 46222 | AA19: 46244 | AB19: 46245 | AC19: 46246 | AD19: 46247 | AE19: 46248 | AF19: 46249 | AG19: 46250
C20: 46160 | D20: 46161 | E20: 46162 | F20: 46163 | G20: 46164 | H20: 46165 | I20: 46166 | K20: 46195 | L20: 46196 | M20: 46197 | N20: 46198 | O20: 46199 | P20: 46200 | Q20: 46201 | S20: 46223 | T20: 46224 | U20: 46225 | V20: 46226 | W20: 46227 | X20: 46228 | Y20: 46229 | AA20: 46251 | AB20: 46252 | AC20: 46253 | AD20: 46254 | AE20: 46255 | AF20: 46256 | AG20: 46257
C21: 46167 | D21: 46168 | E21: 46169 | F21: 46170 | G21: 46171 | H21: 46172 | I21: 46173 | K21: 46202 | L21: 46203 | S21: 46230 | T21: 46231 | U21: 46232 | V21: 46233 | W21: 46234 | AA21: 46258 | AB21: 46259 | AC21: 46260 | AD21: 46261 | AE21: 46262 | AF21: 46263 | AG21: 46264
AA22: 46265
C24: 9 | D24: =TEXT(C27,"MMMM") -> September | K24: 10 | L24: =TEXT(K27,"MMMM") -> October | S24: 11 | T24: =TEXT(S27,"MMMM") -> November | AA24: 12 | AB24: =TEXT(AA27,"MMMM") -> December
C25: =LEFT(TEXT(C27,"DDD"),1) -> M | D25: =LEFT(TEXT(D27,"DDD"),1) -> T | E25: =LEFT(TEXT(E27,"DDD"),1) -> W | F25: =LEFT(TEXT(F27,"DDD"),1) -> T | G25: =LEFT(TEXT(G27,"DDD"),1) -> F | H25: =LEFT(TEXT(H27,"DDD"),1) -> S | I25: =LEFT(TEXT(I27,"DDD"),1) -> S | K25: =LEFT(TEXT(K27,"DDD"),1) -> M | L25: =LEFT(TEXT(L27,"DDD"),1) -> T | M25: =LEFT(TEXT(M27,"DDD"),1) -> W | N25: =LEFT(TEXT(N27,"DDD"),1) -> T | O25: =LEFT(TEXT(O27,"DDD"),1) -> F | P25: =LEFT(TEXT(P27,"DDD"),1) -> S | Q25: =LEFT(TEXT(Q27,"DDD"),1) -> S | S25: =LEFT(TEXT(S27,"DDD"),1) -> M | T25: =LEFT(TEXT(T27,"DDD"),1) -> T | U25: =LEFT(TEXT(U27,"DDD"),1) -> W | V25: =LEFT(TEXT(V27,"DDD"),1) -> T | W25: =LEFT(TEXT(W27,"DDD"),1) -> F | X25: =LEFT(TEXT(X27,"DDD"),1) -> S | Y25: =LEFT(TEXT(Y27,"DDD"),1) -> S | AA25: =LEFT(TEXT(AA27,"DDD"),1) -> M | AB25: =LEFT(TEXT(AB27,"DDD"),1) -> T | AC25: =LEFT(TEXT(AC27,"DDD"),1) -> W | AD25: =LEFT(TEXT(AD27,"DDD"),1) -> T | AE25: =LEFT(TEXT(AE27,"DDD"),1) -> F | AF25: =LEFT(TEXT(AF27,"DDD"),1) -> S | AG25: =LEFT(TEXT(AG27,"DDD"),1) -> S
C26: {=_xlfn.LET(_xlpm.dt, _xlfn._xlws.FILTER(monthly.calendar, month.nums=C24), IF(MONTH(_xlpm.dt)<>C24,"",_xlpm.dt))} | D26: 46266 | E26: 46267 | F26: 46268 | G26: 46269 | H26: 46270 | I26: 46271 | K26: {=_xlfn.LET(_xlpm.dt, _xlfn._xlws.FILTER(monthly.calendar, month.nums=K24), IF(MONTH(_xlpm.dt)<>K24,"",_xlpm.dt))} | N26: 46296 | O26: 46297 | P26: 46298 | Q26: 46299 | S26: {=_xlfn.LET(_xlpm.dt, _xlfn._xlws.FILTER(monthly.calendar, month.nums=S24), IF(MONTH(_xlpm.dt)<>S24,"",_xlpm.dt))} | Y26: 46327 | AA26: {=_xlfn.LET(_xlpm.dt, _xlfn._xlws.FILTER(monthly.calendar, month.nums=AA24), IF(MONTH(_xlpm.dt)<>AA24,"",_xlpm.dt))} | AB26: 46357 | AC26: 46358 | AD26: 46359 | AE26: 46360 | AF26: 46361 | AG26: 46362
C27: 46272 | D27: 46273 | E27: 46274 | F27: 46275 | G27: 46276 | H27: 46277 | I27: 46278 | K27: 46300 | L27: 46301 | M27: 46302 | N27: 46303 | O27: 46304 | P27: 46305 | Q27: 46306 | S27: 46328 | T27: 46329 | U27: 46330 | V27: 46331 | W27: 46332 | X27: 46333 | Y27: 46334 | AA27: 46363 | AB27: 46364 | AC27: 46365 | AD27: 46366 | AE27: 46367 | AF27: 46368 | AG27: 46369
C28: 46279 | D28: 46280 | E28: 46281 | F28: 46282 | G28: 46283 | H28: 46284 | I28: 46285 | K28: 46307 | L28: 46308 | M28: 46309 | N28: 46310 | O28: 46311 | P28: 46312 | Q28: 46313 | S28: 46335 | T28: 46336 | U28: 46337 | V28: 46338 | W28: 46339 | X28: 46340 | Y28: 46341 | AA28: 46370 | AB28: 46371 | AC28: 46372 | AD28: 46373 | AE28: 46374 | AF28: 46375 | AG28: 46376
C29: 46286 | D29: 46287 | E29: 46288 | F29: 46289 | G29: 46290 | H29: 46291 | I29: 46292 | K29: 46314 | L29: 46315 | M29: 46316 | N29: 46317 | O29: 46318 | P29: 46319 | Q29: 46320 | S29: 46342 | T29: 46343 | U29: 46344 | V29: 46345 | W29: 46346 | X29: 46347 | Y29: 46348 | AA29: 46377 | AB29: 46378 | AC29: 46379 | AD29: 46380 | AE29: 46381 | AF29: 46382 | AG29: 46383
C30: 46293 | D30: 46294 | E30: 46295 | K30: 46321 | L30: 46322 | M30: 46323 | N30: 46324 | O30: 46325 | P30: 46326 | S30: 46349 | T30: 46350 | U30: 46351 | V30: 46352 | W30: 46353 | X30: 46354 | Y30: 46355 | AA30: 46384 | AB30: 46385 | AC30: 46386 | AD30: 46387
S31: 46356 | AI31: =Calc!R28
AI32: =Calc!R29
AI33: =Calc!R30
AI34: =Calc!R31
AI35: =Calc!R32
AI36: =Calc!R33
AI37: =Calc!R34
AI38: =Calc!R35
AI39: =Calc!R36
AI40: =Calc!R37

Sheet Any Month
C1: Any Month Calendar
C3: 2 | D3: ← Pick a month
C5: =TEXT(C9,"MMMM YYYY") -> February 2026
C6: =UPPER(TEXT(C9,"DDD")) -> MON | D6: =UPPER(TEXT(D9,"DDD")) -> TUE | E6: =UPPER(TEXT(E9,"DDD")) -> WED | F6: =UPPER(TEXT(F9,"DDD")) -> THU | G6: =UPPER(TEXT(G9,"DDD")) -> FRI | H6: =UPPER(TEXT(H9,"DDD")) -> SAT | I6: =UPPER(TEXT(I9,"DDD")) -> SUN
C7: =Calc!Z13 | D7: =Calc!AA13 | E7: =Calc!AB13 | F7: =Calc!AC13 | G7: =Calc!AD13 | H7: =Calc!AE13 | I7: =Calc!AF13 -> 46054
C8: =Calc!Z31 | D8: =Calc!AA31 | E8: =Calc!AB31 | F8: =Calc!AC31 | G8: =Calc!AD31 | H8: =Calc!AE31 | I8: =Calc!AF31
C9: =Calc!Z14 -> 46055 | D9: =Calc!AA14 -> 46056 | E9: =Calc!AB14 -> 46057 | F9: =Calc!AC14 -> 46058 | G9: =Calc!AD14 -> 46059 | H9: =Calc!AE14 -> 46060 | I9: =Calc!AF14 -> 46061
C10: =Calc!Z32 | D10: =Calc!AA32 | E10: =Calc!AB32 | F10: =Calc!AC32 | G10: =Calc!AD32 | H10: =Calc!AE32 | I10: =Calc!AF32
C11: =Calc!Z15 -> 46062 | D11: =Calc!AA15 -> 46063 | E11: =Calc!AB15 -> 46064 | F11: =Calc!AC15 -> 46065 | G11: =Calc!AD15 -> 46066 | H11: =Calc!AE15 -> 46067 | I11: =Calc!AF15 -> 46068
C12: =Calc!Z33 | D12: =Calc!AA33 | E12: =Calc!AB33 | F12: =Calc!AC33 | G12: =Calc!AD33 | H12: =Calc!AE33 | I12: =Calc!AF33
C13: =Calc!Z16 -> 46069 | D13: =Calc!AA16 -> 46070 | E13: =Calc!AB16 -> 46071 | F13: =Calc!AC16 -> 46072 | G13: =Calc!AD16 -> 46073 | H13: =Calc!AE16 -> 46074 | I13: =Calc!AF16 -> 46075
C14: =Calc!Z34 | D14: =Calc!AA34 | E14: =Calc!AB34 | F14: =Calc!AC34 | G14: =Calc!AD34 | H14: =Calc!AE34 | I14: =Calc!AF34
C15: =Calc!Z17 -> 46076 | D15: =Calc!AA17 -> 46077 | E15: =Calc!AB17 -> 46078 | F15: =Calc!AC17 -> 46079 | G15: =Calc!AD17 -> 46080 | H15: =Calc!AE17 -> 46081 | I15: =Calc!AF17
C16: =Calc!Z35 | D16: =Calc!AA35 | E16: =Calc!AB35 | F16: =Calc!AC35 | G16: =Calc!AD35 | H16: =Calc!AE35 | I16: =Calc!AF35
C17: =Calc!Z18 | D17: =Calc!AA18 | E17: =Calc!AB18 | F17: =Calc!AC18 | G17: =Calc!AD18 | H17: =Calc!AE18 | I17: =Calc!AF18
C18: =Calc!Z36 | D18: =Calc!AA36 | E18: =Calc!AB36 | F18: =Calc!AC36 | G18: =Calc!AD36 | H18: =Calc!AE36 | I18: =Calc!AF36

Sheet Printable 12 Month
C1: 12 Month Calendar (printable)
C5: =TEXT(C9,"MMMM YYYY") -> January 2026
C6: =UPPER(TEXT(C9,"DDD")) -> MON | D6: =UPPER(TEXT(D9,"DDD")) -> TUE | E6: =UPPER(TEXT(E9,"DDD")) -> WED | F6: =UPPER(TEXT(F9,"DDD")) -> THU | G6: =UPPER(TEXT(G9,"DDD")) -> FRI | H6: =UPPER(TEXT(H9,"DDD")) -> SAT | I6: =UPPER(TEXT(I9,"DDD")) -> SUN
C7: {=_xlfn.ANCHORARRAY(Calc!AS13)} | F7: 46023 | G7: 46024 | H7: 46025 | I7: 46026
C9: 46027 | D9: 46028 | E9: 46029 | F9: 46030 | G9: 46031 | H9: 46032 | I9: 46033
C11: 46034 | D11: 46035 | E11: 46036 | F11: 46037 | G11: 46038 | H11: 46039 | I11: 46040
E12: 🛕Makara Sankranthi 🛕Makara Sankranthi 🛕Makara Sankranthi
C13: 46041 | D13: 46042 | E13: 46043 | F13: 46044 | G13: 46045 | H13: 46046 | I13: 46047
C15: 46048 | D15: 46049 | E15: 46050 | F15: 46051 | G15: 46052 | H15: 46053
C16: 🛕Republic Day 🛕Republic Day 🛕Republic Day
C21: =TEXT(C25,"MMMM YYYY") -> February 2026
C22: =UPPER(TEXT(C25,"DDD")) -> MON | D22: =UPPER(TEXT(D25,"DDD")) -> TUE | E22: =UPPER(TEXT(E25,"DDD")) -> WED | F22: =UPPER(TEXT(F25,"DDD")) -> THU | G22: =UPPER(TEXT(G25,"DDD")) -> FRI | H22: =UPPER(TEXT(H25,"DDD")) -> SAT | I22: =UPPER(TEXT(I25,"DDD")) -> SUN
C23: {=_xlfn.ANCHORARRAY(Calc!AS29)} | I23: 46054
C25: 46055 | D25: 46056 | E25: 46057 | F25: 46058 | G25: 46059 | H25: 46060 | I25: 46061
C27: 46062 | D27: 46063 | E27: 46064 | F27: 46065 | G27: 46066 | H27: 46067 | I27: 46068
C29: 46069 | D29: 46070 | E29: 46071 | F29: 46072 | G29: 46073 | H29: 46074 | I29: 46075
C31: 46076 | D31: 46077 | E31: 46078 | F31: 46079 | G31: 46080 | H31: 46081
C37: =TEXT(C41,"MMMM YYYY") -> March 2026
C38: =UPPER(TEXT(C41,"DDD")) -> MON | D38: =UPPER(TEXT(D41,"DDD")) -> TUE | E38: =UPPER(TEXT(E41,"DDD")) -> WED | F38: =UPPER(TEXT(F41,"DDD")) -> THU | G38: =UPPER(TEXT(G41,"DDD")) -> FRI | H38: =UPPER(TEXT(H41,"DDD")) -> SAT | I38: =UPPER(TEXT(I41,"DDD")) -> SUN
C39: {=_xlfn.ANCHORARRAY(Calc!AS45)} | I39: 46082
C41: 46083 | D41: 46084 | E41: 46085 | F41: 46086 | G41: 46087 | H41: 46088 | I41: 46089
I42: 🛕Maha Shivaratri 🛕Maha Shivaratri 🛕Maha Shivaratri
C43: 46090 | D43: 46091 | E43: 46092 | F43: 46093 | G43: 46094 | H43: 46095 | I43: 46096
C45: 46097 | D45: 46098 | E45: 46099 | F45: 46100 | G45: 46101 | H45: 46102 | I45: 46103
C47: 46104 | D47: 46105 | E47: 46106 | F47: 46107 | G47: 46108 | H47: 46109 | I47: 46110
C49: 46111 | D49: 46112
C53: =TEXT(C57,"MMMM YYYY") -> April 2026
C54: =UPPER(TEXT(C57,"DDD")) -> MON | D54: =UPPER(TEXT(D57,"DDD")) -> TUE | E54: =UPPER(TEXT(E57,"DDD")) -> WED | F54: =UPPER(TEXT(F57,"DDD")) -> THU | G54: =UPPER(TEXT(G57,"DDD")) -> FRI | H54: =UPPER(TEXT(H57,"DDD")) -> SAT | I54: =UPPER(TEXT(I57,"DDD")) -> SUN
C55: {=_xlfn.ANCHORARRAY(Calc!AS61)} | E55: 46113 | F55: 46114 | G55: 46115 | H55: 46116 | I55: 46117
C57: 46118 | D57: 46119 | E57: 46120 | F57: 46121 | G57: 46122 | H57: 46123 | I57: 46124
C59: 46125 | D59: 46126 | E59: 46127 | F59: 46128 | G59: 46129 | H59: 46130 | I59: 46131
E60: 🛕Rama Navami 🛕Rama Navami 🛕Rama Navami
C61: 46132 | D61: 46133 | E61: 46134 | F61: 46135 | G61: 46136 | H61: 46137 | I61: 46138
C63: 46139 | D63: 46140 | E63: 46141 | F63: 46142
C69: =TEXT(C73,"MMMM YYYY") -> May 2026
C70: =UPPER(TEXT(C73,"DDD")) -> MON | D70: =UPPER(TEXT(D73,"DDD")) -> TUE | E70: =UPPER(TEXT(E73,"DDD")) -> WED | F70: =UPPER(TEXT(F73,"DDD")) -> THU | G70: =UPPER(TEXT(G73,"DDD")) -> FRI | H70: =UPPER(TEXT(H73,"DDD")) -> SAT | I70: =UPPER(TEXT(I73,"DDD")) -> SUN
C71: {=_xlfn.ANCHORARRAY(Calc!AS77)} | G71: 46143 | H71: 46144 | I71: 46145
C73: 46146 | D73: 46147 | E73: 46148 | F73: 46149 | G73: 46150 | H73: 46151 | I73: 46152
C75: 46153 | D75: 46154 | E75: 46155 | F75: 46156 | G75: 46157 | H75: 46158 | I75: 46159
C77: 46160 | D77: 46161 | E77: 46162 | F77: 46163 | G77: 46164 | H77: 46165 | I77: 46166
C79: 46167 | D79: 46168 | E79: 46169 | F79: 46170 | G79: 46171 | H79: 46172 | I79: 46173
C85: =TEXT(C89,"MMMM YYYY") -> June 2026
C86: =UPPER(TEXT(C89,"DDD")) -> MON | D86: =UPPER(TEXT(D89,"DDD")) -> TUE | E86: =UPPER(TEXT(E89,"DDD")) -> WED | F86: =UPPER(TEXT(F89,"DDD")) -> THU | G86: =UPPER(TEXT(G89,"DDD")) -> FRI | H86: =UPPER(TEXT(H89,"DDD")) -> SAT | I86: =UPPER(TEXT(I89,"DDD")) -> SUN
C87: {=_xlfn.ANCHORARRAY(Calc!AS93)} -> 46174 | D87: 46175 | E87: 46176 | F87: 46177 | G87: 46178 | H87: 46179 | I87: 46180
C89: 46181 | D89: 46182 | E89: 46183 | F89: 46184 | G89: 46185 | H89: 46186 | I89: 46187
C91: 46188 | D91: 46189 | E91: 46190 | F91: 46191 | G91: 46192 | H91: 46193 | I91: 46194
C93: 46195 | D93: 46196 | E93: 46197 | F93: 46198 | G93: 46199 | H93: 46200 | I93: 46201
C95: 46202 | D95: 46203
C101: =TEXT(C105,"MMMM YYYY") -> July 2026
C102: =UPPER(TEXT(C105,"DDD")) -> MON | D102: =UPPER(TEXT(D105,"DDD")) -> TUE | E102: =UPPER(TEXT(E105,"DDD")) -> WED | F102: =UPPER(TEXT(F105,"DDD")) -> THU | G102: =UPPER(TEXT(G105,"DDD")) -> FRI | H102: =UPPER(TEXT(H105,"DDD")) -> SAT | I102: =UPPER(TEXT(I105,"DDD")) -> SUN
C103: {=_xlfn.ANCHORARRAY(Calc!AS109)} | E103: 46204 | F103: 46205 | G103: 46206 | H103: 46207 | I103: 46208
C105: 46209 | D105: 46210 | E105: 46211 | F105: 46212 | G105: 46213 | H105: 46214 | I105: 46215
C107: 46216 | D107: 46217 | E107: 46218 | F107: 46219 | G107: 46220 | H107: 46221 | I107: 46222
C109: 46223 | D109: 46224 | E109: 46225 | F109: 46226 | G109: 46227 | H109: 46228 | I109: 46229
C111: 46230 | D111: 46231 | E111: 46232 | F111: 46233 | G111: 46234
C117: =TEXT(C121,"MMMM YYYY") -> August 2026
C118: =UPPER(TEXT(C121,"DDD")) -> MON | D118: =UPPER(TEXT(D121,"DDD")) -> TUE | E118: =UPPER(TEXT(E121,"DDD")) -> WED | F118: =UPPER(TEXT(F121,"DDD")) -> THU | G118: =UPPER(TEXT(G121,"DDD")) -> FRI | H118: =UPPER(TEXT(H121,"DDD")) -> SAT | I118: =UPPER(TEXT(I121,"DDD")) -> SUN
C119: {=_xlfn.ANCHORARRAY(Calc!AS125)} | H119: 46235 | I119: 46236
C121: 46237 | D121: 46238 | E121: 46239 | F121: 46240 | G121: 46241 | H121: 46242 | I121: 46243
C123: 46244 | D123: 46245 | E123: 46246 | F123: 46247 | G123: 46248 | H123: 46249 | I123: 46250
E124: 🛕Varalaxmi Vratham 🛕Varalaxmi Vratham 🛕Varalaxmi Vratham
C125: 46251 | D125: 46252 | E125: 46253 | F125: 46254 | G125: 46255 | H125: 46256 | I125: 46257
C127: 46258 | D127: 46259 | E127: 46260 | F127: 46261 | G127: 46262 | H127: 46263 | I127: 46264
C129: 46265
C133: =TEXT(C137,"MMMM YYYY") -> September 2026
C134: =UPPER(TEXT(C137,"DDD")) -> MON | D134: =UPPER(TEXT(D137,"DDD")) -> TUE | E134: =UPPER(TEXT(E137,"DDD")) -> WED | F134: =UPPER(TEXT(F137,"DDD")) -> THU | G134: =UPPER(TEXT(G137,"DDD")) -> FRI | H134: =UPPER(TEXT(H137,"DDD")) -> SAT | I134: =UPPER(TEXT(I137,"DDD")) -> SUN
C135: {=_xlfn.ANCHORARRAY(Calc!AS141)} | D135: 46266 | E135: 46267 | F135: 46268 | G135: 46269 | H135: 46270 | I135: 46271
C137: 46272 | D137: 46273 | E137: 46274 | F137: 46275 | G137: 46276 | H137: 46277 | I137: 46278
C139: 46279 | D139: 46280 | E139: 46281 | F139: 46282 | G139: 46283 | H139: 46284 | I139: 46285
C141: 46286 | D141: 46287 | E141: 46288 | F141: 46289 | G141: 46290 | H141: 46291 | I141: 46292
C143: 46293 | D143: 46294 | E143: 46295
C149: =TEXT(C153,"MMMM YYYY") -> October 2026
C150: =UPPER(TEXT(C153,"DDD")) -> MON | D150: =UPPER(TEXT(D153,"DDD")) -> TUE | E150: =UPPER(TEXT(E153,"DDD")) -> WED | F150: =UPPER(TEXT(F153,"DDD")) -> THU | G150: =UPPER(TEXT(G153,"DDD")) -> FRI | H150: =UPPER(TEXT(H153,"DDD")) -> SAT | I150: =UPPER(TEXT(I153,"DDD")) -> SUN
C151: {=_xlfn.ANCHORARRAY(Calc!AS157)} | F151: 46296 | G151: 46297 | H151: 46298 | I151: 46299
C153: 46300 | D153: 46301 | E153: 46302 | F153: 46303 | G153: 46304 | H153: 46305 | I153: 46306
C155: 46307 | D155: 46308 | E155: 46309 | F155: 46310 | G155: 46311 | H155: 46312 | I155: 46313
C157: 46314 | D157: 46315 | E157: 46316 | F157: 46317 | G157: 46318 | H157: 46319 | I157: 46320
C159: 46321 | D159: 46322 | E159: 46323 | F159: 46324 | G159: 46325 | H159: 46326
C165: =TEXT(C169,"MMMM YYYY") -> November 2026
C166: =UPPER(TEXT(C169,"DDD")) -> MON | D166: =UPPER(TEXT(D169,"DDD")) -> TUE | E166: =UPPER(TEXT(E169,"DDD")) -> WED | F166: =UPPER(TEXT(F169,"DDD")) -> THU | G166: =UPPER(TEXT(G169,"DDD")) -> FRI | H166: =UPPER(TEXT(H169,"DDD")) -> SAT | I166: =UPPER(TEXT(I169,"DDD")) -> SUN
C167: {=_xlfn.ANCHORARRAY(Calc!AS173)} | I167: 46327
C169: 46328 | D169: 46329 | E169: 46330 | F169: 46331 | G169: 46332 | H169: 46333 | I169: 46334
C171: 46335 | D171: 46336 | E171: 46337 | F171: 46338 | G171: 46339 | H171: 46340 | I171: 46341
C173: 46342 | D173: 46343 | E173: 46344 | F173: 46345 | G173: 46346 | H173: 46347 | I173: 46348
C175: 46349 | D175: 46350 | E175: 46351 | F175: 46352 | G175: 46353 | H175: 46354 | I175: 46355
C177: 46356
C181: =TEXT(C185,"MMMM YYYY") -> December 2026
C182: =UPPER(TEXT(C185,"DDD")) -> MON | D182: =UPPER(TEXT(D185,"DDD")) -> TUE | E182: =UPPER(TEXT(E185,"DDD")) -> WED | F182: =UPPER(TEXT(F185,"DDD")) -> THU | G182: =UPPER(TEXT(G185,"DDD")) -> FRI | H182: =UPPER(TEXT(H185,"DDD")) -> SAT | I182: =UPPER(TEXT(I185,"DDD")) -> SUN
C183: {=_xlfn.ANCHORARRAY(Calc!AS189)} | D183: 46357 | E183: 46358 | F183: 46359 | G183: 46360 | H183: 46361 | I183: 46362
C185: 46363 | D185: 46364 | E185: 46365 | F185: 46366 | G185: 46367 | H185: 46368 | I185: 46369
C187: 46370 | D187: 46371 | E187: 46372 | F187: 46373 | G187: 46374 | H187: 46375 | I187: 46376
C189: 46377 | D189: 46378 | E189: 46379 | F189: 46380 | G189: 46381 | H189: 46382 | I189: 46383
C191: 46384 | D191: 46385 | E191: 46386 | F191: 46387

Sheet Planner
C1: Set up your Planner here
C4: Date | D4: Activity | E4: Type
C5: 46036 | D5: Makara Sankranthi | E5: Festival
C6: 46048 | D6: Republic Day | E6: Festival
C7: 46089 | D7: Maha Shivaratri | E7: Festival
C8: 46127 | D8: Rama Navami | E8: Festival
C9: 46246 | D9: Varalaxmi Vratham | E9: Festival
C10: 46036 | D10: Makara Sankranthi | E10: Festival
C11: 46048 | D11: Republic Day | E11: Festival
C12: 46089 | D12: Maha Shivaratri | E12: Festival
C13: 46127 | D13: Rama Navami | E13: Festival
C14: 46246 | D14: Varalaxmi Vratham | E14: Festival
C15: 46036 | D15: Makara Sankranthi | E15: Festival
C16: 46048 | D16: Republic Day | E16: Festival
... C19: 46246 | D19: Varalaxmi Vratham | E19: Festival

Sheet Customizations
B1: Customizations
F3: Icon options
B4: Year | C4: 2026 | D4: Change this to see calendar for another year | F4: Icon | G4: Type
B5: Week start | C5: 1 | D5: (1 for Monday, 7 for Sunday) | F5: 🎂 | G5: Anniversaries
B6: Weekend | C6: 1 | D6: (1 for Sat+Sun, 2 for Sun+Mon… 11 for Sun only, 12 for Mon only) | F6: 🛕 | G6: Festival
B7: Highlight Planner Dates? | C7: Yes | F7: ✨ | G7: Thithi
F8: 🎉 | G8: Celebration
F9: 📿 | G9: Puja
F10: 📺 | G10: Video
F11: 🏢 | G11: Work stuff
F12: 👨‍👧‍👦 | G12: Kids stuff

Sheet Calc
C1: Calculations - Do not edit
C8: 1 | E8: =DATE(cal.year,C8,1) -> 46023 | F8: =WEEKDAY(E8,week.start+10) -> 4 | H8: =E8 -> 46023 | N8: Today | O8: =TODAY() -> 46020
E9: prev. weekstart | H9: =E8-F8+1 -> 46020 | AJ9: All Months Printable Version | AS9: Interspersed for Printable version
N10: Next Activities | R10: For the Calendar (show only first 25) | V10: Month numbers (for drop down) | Z10: Selected Month | AA10: ='Any Month'!C3 -> 2
D12: =TEXT(D13,"DDD") -> Mon | E12: =TEXT(E13,"DDD") -> Tue | F12: =TEXT(F13,"DDD") -> Wed | G12: =TEXT(G13,"DDD") -> Thu | H12: =TEXT(H13,"DDD") -> Fri | I12: =TEXT(I13,"DDD") -> Sat | J12: =TEXT(J13,"DDD") -> Sun | K12: WEEKNUM | N12: Date | O12: Activity | P12: Type | R12: Type Icon | S12: Date & Activity | V12: Month | Z12: Calendar
C13: 1 | D13: {=_xlfn.LET(_xlpm.mStart, DATE(cal.year, C13, 1), _xlpm.wDay, WEEKDAY(_xlpm.mStart, 10+week.start), _xlfn.SEQUENCE(6,7,_xlpm.mStart-_xlpm.wDay+1))} -> 46020 | E13: 46021 | F13: 46022 | G13: 46023 | H13: 46024 | I13: 46025 | J13: 46026 | K13: =WEEKNUM(D13,10+week.start) -> 53 | N13: {=_xlfn._xlws.SORT(_xlfn._xlws.FILTER(Plan[], Plan[Date]>=O8),1)} -> 46036 | O13: Makara Sankranthi | P13: Festival | R13: =_xlfn.XLOOKUP(P13,icons[Type],icons[Icon],"") -> 🛕 | S13: =IFERROR(IF(N13=0,"",TEXT(N13,"d-mmm")&": "&O13),"No upcoming activities") -> 14-Jan: Makara Sankranthi | V13: {=_xlfn.SEQUENCE(12)} -> 1 | Z13: {=_xlfn.LET(_xlpm.dt, _xlfn._xlws.FILTER(monthly.calendar, month.nums=AA10), IF(MONTH(_xlpm.dt)<>AA10,"",_xlpm.dt))} | AF13: 46054 | AI13: 1 | AJ13: {=_xlfn.LET(_xlpm.dt, _xlfn._xlws.FILTER(monthly.calendar, month.nums=AI13), IF(MONTH(_xlpm.dt)<>AI13,"",_xlpm.dt))} | AM13: 46023 | AN13: 46024 | AO13: 46025 | AP13: 46026 | AS13: {=_xlfn.WRAPROWS(_xlfn.TOCOL(_xlfn.HSTACK(_xlfn.ANCHORARRAY(AJ13),_xlfn.ANCHORARRAY(AJ21))),7)} | AV13: 46023 | AW13: 46024 | AX13: 46025 | AY13: 46026
C14: =C13 -> 1 | D14: 46027 | E14: 46028 | F14: 46029 | G14: 46030 | H14: 46031 | I14: 46032 | J14: 46033 | K14: =WEEKNUM(D14,10+week.start) -> 2 | N14: 46036 | O14: Makara Sankranthi | P14: Festival | R14: =_xlfn.XLOOKUP(P14,icons[Type],icons[Icon],"") -> 🛕 | S14: =IF(N14=0,"",TEXT(N14,"d-mmm")&": "&O14) -> 14-Jan: Makara Sankranthi | V14: 2 | Z14: 46055 | AA14: 46056 | AB14: 46057 | AC14: 46058 | AD14: 46059 | AE14: 46060 | AF14: 46061 | AJ14: 46027 | AK14: 46028 | AL14: 46029 | AM14: 46030 | AN14: 46031 | AO14: 46032 | AP14: 46033
C15: =C14 -> 1 | D15: 46034 | E15: 46035 | F15: 46036 | G15: 46037 | H15: 46038 | I15: 46039 | J15: 46040 | K15: =WEEKNUM(D15,10+week.start) -> 3 | N15: 46036 | O15: Makara Sankranthi | P15: Festival | R15: =_xlfn.XLOOKUP(P15,icons[Type],icons[Icon],"") -> 🛕 | S15: =IF(N15=0,"",TEXT(N15,"d-mmm")&": "&O15) -> 14-Jan: Makara Sankranthi | V15: 3 | Z15: 46062 | AA15: 46063 | AB15: 46064 | AC15: 46065 | AD15: 46066 | AE15: 46067 | AF15: 46068 | AJ15: 46034 | AK15: 46035 | AL15: 46036 | AM15: 46037 | AN15: 46038 | AO15: 46039 | AP15: 46040 | AS15: 46027 | AT15: 46028 | AU15: 46029 | AV15: 46030 | AW15: 46031 | AX15: 46032 | AY15: 46033
C16: =C15 -> 1 | D16: 46041 | E16: 46042 | F16: 46043 | G16: 46044 | H16: 46045 | I16: 46046 | J16: 46047 | K16: =WEEKNUM(D16,10+week.start) -> 4 | N16: 46048 | O16: Republic Day | P16: Festival | R16: =_xlfn.XLOOKUP(P16,icons[Type],icons[Icon],"") -> 🛕 | S16: =IF(N16=0,"",TEXT(N16,"d-mmm")&": "&O16) -> 26-Jan: Republic Day | V16: 4 | Z16: 46069 | AA16: 46070 | AB16: 46071 | AC16: 46072 | AD16: 46073 | AE16: 46074 | AF16: 46075 | AJ16: 46041 | AK16: 46042 | AL16: 46043 | AM16: 46044 | AN16: 46045 | AO16: 46046 | AP16: 46047
C17: =C16 -> 1 | D17: 46048 | E17: 46049 | F17: 46050 | G17: 46051 | H17: 46052 | I17: 46053 | J17: 46054 | K17: =WEEKNUM(D17,10+week.start) -> 5 | N17: 46048 | O17: Republic Day | P17: Festival | R17: =_xlfn.XLOOKUP(P17,icons[Type],icons[Icon],"") -> 🛕 | S17: =IF(N17=0,"",TEXT(N17,"d-mmm")&": "&O17) -> 26-Jan: Republic Day | V17: 5 | Z17: 46076 | AA17: 46077 | AB17: 46078 | AC17: 46079 | AD17: 46080 | AE17: 46081 | AJ17: 46048 | AK17: 46049 | AL17: 46050 | AM17: 46051 | AN17: 46052 | AO17: 46053 | AS17: 46034 | AT17: 46035 | AU17: 46036 | AV17: 46037 | AW17: 46038 | AX17: 46039 | AY17: 46040
C18: =C17 -> 1 | D18: 46055 | E18: 46056 | F18: 46057 | G18: 46058 | H18: 46059 | I18: 46060 | J18: 46061 | K18: =WEEKNUM(D18,10+week.start) -> 6 | N18: 46048 | O18: Republic Day | P18: Festival | R18: =_xlfn.XLOOKUP(P18,icons[Type],icons[Icon],"") -> 🛕 | S18: =IF(N18=0,"",TEXT(N18,"d-mmm")&": "&O18) -> 26-Jan: Republic Day | V18: 6 | AU18: 🛕Makara Sankranthi 🛕Makara Sankranthi 🛕Makara Sankranthi
C19: =C13+1 -> 2 | D19: {=_xlfn.LET(_xlpm.mStart, DATE(cal.year, C19, 1), _xlpm.wDay, WEEKDAY(_xlpm.mStart, 10+week.start), _xlfn.SEQUENCE(6,7,_xlpm.mStart-_xlpm.wDay+1))} -> 46048 | E19: 46049 | F19: 46050 | G19: 46051 | H19: 46052 | I19: 46053 | J19: 46054 | K19: =WEEKNUM(D19,10+week.start) -> 5 | N19: 46089 | O19: Maha Shivaratri | P19: Festival | R19: =_xlfn.XLOOKUP(P19,icons[Type],icons[Icon],"") -> 🛕 | S19: =IF(N19=0,"",TEXT(N19,"d-mmm")&": "&O19) -> 8-Mar: Maha Shivaratri | V19: 7 | AS19: 46041 | AT19: 46042 | AU19: 46043 | AV19: 46044 | AW19: 46045 | AX19: 46046 | AY19: 46047
C20: =C19 -> 2 | D20: 46055 | E20: 46056 | F20: 46057 | G20: 46058 | H20: 46059 | I20: 46060 | J20: 46061 | K20: =WEEKNUM(D20,10+week.start) -> 6 | N20: 46089 | O20: Maha Shivaratri | P20: Festival | R20: =_xlfn.XLOOKUP(P20,icons[Type],icons[Icon],"") -> 🛕 | S20: =IF(N20=0,"",TEXT(N20,"d-mmm")&": "&O20) -> 8-Mar: Maha Shivaratri | V20: 8
C21: =C20 -> 2 | D21: 46062 | E21: 46063 | F21: 46064 | G21: 46065 | H21: 46066 | I21: 46067 | J21: 46068 | K21: =WEEKNUM(D21,10+week.start) -> 7 | N21: 46089 | O21: Maha Shivaratri | P21: Festival | R21: =_xlfn.XLOOKUP(P21,icons[Type],icons[Icon],"") -> 🛕 | S21: =IF(N21=0,"",TEXT(N21,"d-mmm")&": "&O21) -> 8-Mar: Maha Shivaratri | V21: 9 | Z21: Acts | AJ21: {=_xlfn.MAP(_xlfn.ANCHORARRAY(AJ13), _xlfn.LAMBDA(_xlpm.a, IFERROR(_xlfn.LET(_xlpm.events, _xlfn._xlws.FILTER(Plan[Activity],Plan[Date]=_xlpm.a), _xlpm.ic, _xlfn.XLOOKUP(_xlfn._xlws.FILTER(Plan[Type], Plan[Date]=_xlpm.a,"x"), icons[Type], icons[Icon]), _xlfn.TEXTJOIN(CHAR(10),TRUE, _xlpm.ic&_xlpm.events)),"")))} | AS21: 46048 | AT21: 46049 | AU21: 46050 | AV21: 46051 | AW21: 46052 | AX21: 46053
C22: =C21 -> 2 | D22: 46069 | E22: 46070 | F22: 46071 | G22: 46072 | H22: 46073 | I22: 46074 | J22: 46075 | K22: =WEEKNUM(D22,10+week.start) -> 8 | N22: 46127 | O22: Rama Navami | P22: Festival | R22: =_xlfn.XLOOKUP(P22,icons[Type],icons[Icon],"") -> 🛕 | S22: =IF(N22=0,"",TEXT(N22,"d-mmm")&": "&O22) -> 15-Apr: Rama Navami | V22: 10 | Z22: {=IFERROR(_xlfn.XLOOKUP(_xlfn.MAP(_xlfn.ANCHORARRAY(Z13),_xlfn.LAMBDA(_xlpm.v, _xlfn._xlws.FILTER(Plan[Type],Plan[Date]=_xlpm.v,""))),icons[Type],icons[Icon])&" "&_xlfn.MAP(_xlfn.ANCHORARRAY(Z13),_xlfn.LAMBDA(_xlpm.v, _xlfn._xlws.FILTER(Plan[Activity],Plan[Date]=_xlpm.v,""))),"")} | AS22: 🛕Republic Day 🛕Republic Day 🛕Republic Day
C23: =C22 -> 2 | D23: 46076 | E23: 46077 | F23: 46078 | G23: 46079 | H23: 46080 | I23: 46081 | J23: 46082 | K23: =WEEKNUM(D23,10+week.start) -> 9 | N23: 46127 | O23: Rama Navami | P23: Festival | R23: =_xlfn.XLOOKUP(P23,icons[Type],icons[Icon],"") -> 🛕 | S23: =IF(N23=0,"",TEXT(N23,"d-mmm")&": "&O23) -> 15-Apr: Rama Navami | V23: 11 | AL23: 🛕Makara Sankranthi 🛕Makara Sankranthi 🛕Makara Sankranthi
C24: =C23 -> 2 | D24: 46083 | E24: 46084 | F24: 46085 | G24: 46086 | H24: 46087 | I24: 46088 | J24: 46089 | K24: =WEEKNUM(D24,10+week.start) -> 10 | N24: 46127 | O24: Rama Navami | P24: Festival | R24: =_xlfn.XLOOKUP(P24,icons[Type],icons[Icon],"") -> 🛕 | S24: =IF(N24=0,"",TEXT(N24,"d-mmm")&": "&O24) -> 15-Apr: Rama Navami | V24: 12
C25: =C19+1 -> 3 | D25: {=_xlfn.LET(_xlpm.mStart, DATE(cal.year, C25, 1), _xlpm.wDay, WEEKDAY(_xlpm.mStart, 10+week.start), _xlfn.SEQUENCE(6,7,_xlpm.mStart-_xlpm.wDay+1))} -> 46076 | E25: 46077 | F25: 46078 | G25: 46079 | H25: 46080 | I25: 46081 | J25: 46082 | K25: =WEEKNUM(D25,10+week.start) -> 9 | N25: 46246 | O25: Varalaxmi Vratham | P25: Festival | R25: =_xlfn.XLOOKUP(P25,icons[Type],icons[Icon],"") -> 🛕 | S25: =IF(N25=0,"",TEXT(N25,"d-mmm")&": "&O25) -> 12-Aug: Varalaxmi Vratham | AJ25: 🛕Republic Day 🛕Republic Day 🛕Republic Day
C26: =C25 -> 3 | D26: 46083 | E26: 46084 | F26: 46085 | G26: 46086 | H26: 46087 | I26: 46088 | J26: 46089 | K26: =WEEKNUM(D26,10+week.start) -> 10 | N26: 46246 | O26: Varalaxmi Vratham | P26: Festival | R26: =_xlfn.XLOOKUP(P26,icons[Type],icons[Icon],"") -> 🛕 | S26: =IF(N26=0,"",TEXT(N26,"d-mmm")&": "&O26) -> 12-Aug: Varalaxmi Vratham
C27: =C26 -> 3 | D27: 46090 | E27: 46091 | F27: 46092 | G27: 46093 | H27: 46094 | I27: 46095 | J27: 46096 | K27: =WEEKNUM(D27,10+week.start) -> 11 | N27: 46246 | O27: Varalaxmi Vratham | P27: Festival | R27: =_xlfn.XLOOKUP(P27,icons[Type],icons[Icon],"") -> 🛕 | S27: =IF(N27=0,"",TEXT(N27,"d-mmm")&": "&O27) -> 12-Aug: Varalaxmi Vratham
C28: =C27 -> 3 | D28: 46097 | E28: 46098 | F28: 46099 | G28: 46100 | H28: 46101 | I28: 46102 | J28: 46103 | K28: =WEEKNUM(D28,10+week.start) -> 12 | R28: =_xlfn.XLOOKUP(P28,icons[Type],icons[Icon],"") | S28: =IF(N28=0,"",TEXT(N28,"d-mmm")&": "&O28)
C29: =C28 -> 3 | D29: 46104 | E29: 46105 | F29: 46106 | G29: 46107 | H29: 46108 | I29: 46109 | J29: 46110 | K29: =WEEKNUM(D29,10+week.start) -> 13 | R29: =_xlfn.XLOOKUP(P29,icons[Type],icons[Icon],"") | S29: =IF(N29=0,"",TEXT(N29,"d-mmm")&": "&O29) | AI29: =AI13+1 -> 2 | AJ29: {=_xlfn.LET(_xlpm.dt, _xlfn._xlws.FILTER(monthly.calendar, month.nums=AI29), IF(MONTH(_xlpm.dt)<>AI29,"",_xlpm.dt))} | AP29: 46054 | AS29: {=_xlfn.WRAPROWS(_xlfn.TOCOL(_xlfn.HSTACK(_xlfn.ANCHORARRAY(AJ29),_xlfn.ANCHORARRAY(AJ37))),7)} | AY29: 46054
C30: =C29 -> 3 | D30: 46111 | E30: 46112 | F30: 46113 | G30: 46114 | H30: 46115 | I30: 46116 | J30: 46117 | K30: =WEEKNUM(D30,10+week.start) -> 14 | R30: =_xlfn.XLOOKUP(P30,icons[Type],icons[Icon],"") | S30: =IF(N30=0,"",TEXT(N30,"d-mmm")&": "&O30) | AJ30: 46055 | AK30: 46056 | AL30: 46057 | AM30: 46058 | AN30: 46059 | AO30: 46060 | AP30: 46061
C31: =C25+1 -> 4 | D31: {=_xlfn.LET(_xlpm.mStart, DATE(cal.year, C31, 1), _xlpm.wDay, WEEKDAY(_xlpm.mStart, 10+week.start), _xlfn.SEQUENCE(6,7,_xlpm.mStart-_xlpm.wDay+1))} -> 46111 | E31: 46112 | F31: 46113 | G31: 46114 | H31: 46115 | I31: 46116 | J31: 46117 | K31: =WEEKNUM(D31,10+week.start) -> 14 | R31: =_xlfn.XLOOKUP(P31,icons[Type],icons[Icon],"") | S31: =IF(N31=0,"",TEXT(N31,"d-mmm")&": "&O31) | Z31: {=IFERROR(_xlfn.LET(_xlpm.events, _xlfn._xlws.FILTER(Plan[Activity],Plan[Date]=Calc!Z13), _xlpm.ic, _xlfn.XLOOKUP(_xlfn._xlws.FILTER(Plan[Type], Plan[Date]=Z13,"x"), icons[Type], icons[Icon]), _xlfn.TEXTJOIN(CHAR(10),TRUE, _xlpm.ic&_xlpm.events)),"")} | AA31: {=IFERROR(_xlfn.LET(_xlpm.events, _xlfn._xlws.FILTER(Plan[Activity],Plan[Date]=Calc!AA13), _xlpm.ic, _xlfn.XLOOKUP(_xlfn._xlws.FILTER(Plan[Type], Plan[Date]=AA13,"x"), icons[Type], icons[Icon]), _xlfn.TEXTJOIN(CHAR(10),TRUE, _xlpm.ic&_xlpm.events)),"")} | AB31: {=IFERROR(_xlfn.LET(_xlpm.events, _xlfn._xlws.FILTER(Plan[Activity],Plan[Date]=Calc!AB13), _xlpm.ic, _xlfn.XLOOKUP(_xlfn._xlws.FILTER(Plan[Type], Plan[Date]=AB13,"x"), icons[Type], icons[Icon]), _xlfn.TEXTJOIN(CHAR(10),TRUE, _xlpm.ic&_xlpm.events)),"")} | AC31: {=IFERROR(_xlfn.LET(_xlpm.events, _xlfn._xlws.FILTER(Plan[Activity],Plan[Date]=Calc!AC13), _xlpm.ic, _xlfn.XLOOKUP(_xlfn._xlws.FILTER(Plan[Type], Plan[Date]=AC13,"x"), icons[Type], icons[Icon]), _xlfn.TEXTJOIN(CHAR(10),TRUE, _xlpm.ic&_xlpm.events)),"")} | AD31: {=IFERROR(_xlfn.LET(_xlpm.events, _xlfn._xlws.FILTER(Plan[Activity],Plan[Date]=Calc!AD13), _xlpm.ic, _xlfn.XLOOKUP(_xlfn._xlws.FILTER(Plan[Type], Plan[Date]=AD13,"x"), icons[Type], icons[Icon]), _xlfn.TEXTJOIN(CHAR(10),TRUE, _xlpm.ic&_xlpm.events)),"")} | AE31: {=IFERROR(_xlfn.LET(_xlpm.events, _xlfn._xlws.FILTER(Plan[Activity],Plan[Date]=Calc!AE13), _xlpm.ic, _xlfn.XLOOKUP(_xlfn._xlws.FILTER(Plan[Type], Plan[Date]=AE13,"x"), icons[Type], icons[Icon]), _xlfn.TEXTJOIN(CHAR(10),TRUE, _xlpm.ic&_xlpm.events)),"")} | AF31: {=IFERROR(_xlfn.LET(_xlpm.events, _xlfn._xlws.FILTER(Plan[Activity],Plan[Date]=Calc!AF13), _xlpm.ic, _xlfn.XLOOKUP(_xlfn._xlws.FILTER(Plan[Type], Plan[Date]=AF13,"x"), icons[Type], icons[Icon]), _xlfn.TEXTJOIN(CHAR(10),TRUE, _xlpm.ic&_xlpm.events)),"")} | AJ31: 46062 | AK31: 46063 | AL31: 46064 | AM31: 46065 | AN31: 46066 | AO31: 46067 | AP31: 46068 | AS31: 46055 | AT31: 46056 | AU31: 46057 | AV31: 46058 | AW31: 46059 | AX31: 46060 | AY31: 46061
C32: =C31 -> 4 | D32: 46118 | E32: 46119 | F32: 46120 | G32: 46121 | H32: 46122 | I32: 46123 | J32: 46124 | K32: =WEEKNUM(D32,10+week.start) -> 15 | R32: =_xlfn.XLOOKUP(P32,icons[Type],icons[Icon],"") | S32: =IF(N32=0,"",TEXT(N32,"d-mmm")&": "&O32) | Z32: {=IFERROR(_xlfn.LET(_xlpm.events, _xlfn._xlws.FILTER(Plan[Activity],Plan[Date]=Calc!Z14), _xlpm.ic, _xlfn.XLOOKUP(_xlfn._xlws.FILTER(Plan[Type], Plan[Date]=Z14,"x"), icons[Type], icons[Icon]), _xlfn.TEXTJOIN(CHAR(10),TRUE, _xlpm.ic&_xlpm.events)),"")} | AA32: {=IFERROR(_xlfn.LET(_xlpm.events, _xlfn._xlws.FILTER(Plan[Activity],Plan[Date]=Calc!AA14), _xlpm.ic, _xlfn.XLOOKUP(_xlfn._xlws.FILTER(Plan[Type], Plan[Date]=AA14,"x"), icons[Type], icons[Icon]), _xlfn.TEXTJOIN(CHAR(10),TRUE, _xlpm.ic&_xlpm.events)),"")} | AB32: {=IFERROR(_xlfn.LET(_xlpm.events, _xlfn._xlws.FILTER(Plan[Activity],Plan[Date]=Calc!AB14), _xlpm.ic, _xlfn.XLOOKUP(_xlfn._xlws.FILTER(Plan[Type], Plan[Date]=AB14,"x"), icons[Type], icons[Icon]), _xlfn.TEXTJOIN(CHAR(10),TRUE, _xlpm.ic&_xlpm.events)),"")} | AC32: {=IFERROR(_xlfn.LET(_xlpm.events, _xlfn._xlws.FILTER(Plan[Activity],Plan[Date]=Calc!AC14), _xlpm.ic, _xlfn.XLOOKUP(_xlfn._xlws.FILTER(Plan[Type], Plan[Date]=AC14,"x"), icons[Type], icons[Icon]), _xlfn.TEXTJOIN(CHAR(10),TRUE, _xlpm.ic&_xlpm.events)),"")} | AD32: {=IFERROR(_xlfn.LET(_xlpm.events, _xlfn._xlws.FILTER(Plan[Activity],Plan[Date]=Calc!AD14), _xlpm.ic, _xlfn.XLOOKUP(_xlfn._xlws.FILTER(Plan[Type], Plan[Date]=AD14,"x"), icons[Type], icons[Icon]), _xlfn.TEXTJOIN(CHAR(10),TRUE, _xlpm.ic&_xlpm.events)),"")} | AE32: {=IFERROR(_xlfn.LET(_xlpm.events, _xlfn._xlws.FILTER(Plan[Activity],Plan[Date]=Calc!AE14), _xlpm.ic, _xlfn.XLOOKUP(_xlfn._xlws.FILTER(Plan[Type], Plan[Date]=AE14,"x"), icons[Type], icons[Icon]), _xlfn.TEXTJOIN(CHAR(10),TRUE, _xlpm.ic&_xlpm.events)),"")} | AF32: {=IFERROR(_xlfn.LET(_xlpm.events, _xlfn._xlws.FILTER(Plan[Activity],Plan[Date]=Calc!AF14), _xlpm.ic, _xlfn.XLOOKUP(_xlfn._xlws.FILTER(Plan[Type], Plan[Date]=AF14,"x"), icons[Type], icons[Icon]), _xlfn.TEXTJOIN(CHAR(10),TRUE, _xlpm.ic&_xlpm.events)),"")} | AJ32: 46069 | AK32: 46070 | AL32: 46071 | AM32: 46072 | AN32: 46073 | AO32: 46074 | AP32: 46075
C33: =C32 -> 4 | D33: 46125 | E33: 46126 | F33: 46127 | G33: 46128 | H33: 46129 | I33: 46130 | J33: 46131 | K33: =WEEKNUM(D33,10+week.start) -> 16 | R33: =_xlfn.XLOOKUP(P33,icons[Type],icons[Icon],"") | S33: =IF(N33=0,"",TEXT(N33,"d-mmm")&": "&O33) | Z33: {=IFERROR(_xlfn.LET(_xlpm.events, _xlfn._xlws.FILTER(Plan[Activity],Plan[Date]=Calc!Z15), _xlpm.ic, _xlfn.XLOOKUP(_xlfn._xlws.FILTER(Plan[Type], Plan[Date]=Z15,"x"), icons[Type], icons[Icon]), _xlfn.TEXTJOIN(CHAR(10),TRUE, _xlpm.ic&_xlpm.events)),"")} | AA33: {=IFERROR(_xlfn.LET(_xlpm.events, _xlfn._xlws.FILTER(Plan[Activity],Plan[Date]=Calc!AA15), _xlpm.ic, _xlfn.XLOOKUP(_xlfn._xlws.FILTER(Plan[Type], Plan[Date]=AA15,"x"), icons[Type], icons[Icon]), _xlfn.TEXTJOIN(CHAR(10),TRUE, _xlpm.ic&_xlpm.events)),"")} | AB33: {=IFERROR(_xlfn.LET(_xlpm.events, _xlfn._xlws.FILTER(Plan[Activity],Plan[Date]=Calc!AB15), _xlpm.ic, _xlfn.XLOOKUP(_xlfn._xlws.FILTER(Plan[Type], Plan[Date]=AB15,"x"), icons[Type], icons[Icon]), _xlfn.TEXTJOIN(CHAR(10),TRUE, _xlpm.ic&_xlpm.events)),"")} | AC33: {=IFERROR(_xlfn.LET(_xlpm.events, _xlfn._xlws.FILTER(Plan[Activity],Plan[Date]=Calc!AC15), _xlpm.ic, _xlfn.XLOOKUP(_xlfn._xlws.FILTER(Plan[Type], Plan[Date]=AC15,"x"), icons[Type], icons[Icon]), _xlfn.TEXTJOIN(CHAR(10),TRUE, _xlpm.ic&_xlpm.events)),"")} | AD33: {=IFERROR(_xlfn.LET(_xlpm.events, _xlfn._xlws.FILTER(Plan[Activity],Plan[Date]=Calc!AD15), _xlpm.ic, _xlfn.XLOOKUP(_xlfn._xlws.FILTER(Plan[Type], Plan[Date]=AD15,"x"), icons[Type], icons[Icon]), _xlfn.TEXTJOIN(CHAR(10),TRUE, _xlpm.ic&_xlpm.events)),"")} | AE33: {=IFERROR(_xlfn.LET(_xlpm.events, _xlfn._xlws.FILTER(Plan[Activity],Plan[Date]=Calc!AE15), _xlpm.ic, _xlfn.XLOOKUP(_xlfn._xlws.FILTER(Plan[Type], Plan[Date]=AE15,"x"), icons[Type], icons[Icon]), _xlfn.TEXTJOIN(CHAR(10),TRUE, _xlpm.ic&_xlpm.events)),"")} | AF33: {=IFERROR(_xlfn.LET(_xlpm.events, _xlfn._xlws.FILTER(Plan[Activity],Plan[Date]=Calc!AF15), _xlpm.ic, _xlfn.XLOOKUP(_xlfn._xlws.FILTER(Plan[Type], Plan[Date]=AF15,"x"), icons[Type], icons[Icon]), _xlfn.TEXTJOIN(CHAR(10),TRUE, _xlpm.ic&_xlpm.events)),"")} | AJ33: 46076 | AK33: 46077 | AL33: 46078 | AM33: 46079 | AN33: 46080 | AO33: 46081 | AS33: 46062 | AT33: 46063 | AU33: 46064 | AV33: 46065 | AW33: 46066 | AX33: 46067 | AY33: 46068
C34: =C33 -> 4 | D34: 46132 | E34: 46133 | F34: 46134 | G34: 46135 | H34: 46136 | I34: 46137 | J34: 46138 | K34: =WEEKNUM(D34,10+week.start) -> 17 | R34: =_xlfn.XLOOKUP(P34,icons[Type],icons[Icon],"") | S34: =IF(N34=0,"",TEXT(N34,"d-mmm")&": "&O34) | Z34: {=IFERROR(_xlfn.LET(_xlpm.events, _xlfn._xlws.FILTER(Plan[Activity],Plan[Date]=Calc!Z16), _xlpm.ic, _xlfn.XLOOKUP(_xlfn._xlws.FILTER(Plan[Type], Plan[Date]=Z16,"x"), icons[Type], icons[Icon]), _xlfn.TEXTJOIN(CHAR(10),TRUE, _xlpm.ic&_xlpm.events)),"")} | AA34: {=IFERROR(_xlfn.LET(_xlpm.events, _xlfn._xlws.FILTER(Plan[Activity],Plan[Date]=Calc!AA16), _xlpm.ic, _xlfn.XLOOKUP(_xlfn._xlws.FILTER(Plan[Type], Plan[Date]=AA16,"x"), icons[Type], icons[Icon]), _xlfn.TEXTJOIN(CHAR(10),TRUE, _xlpm.ic&_xlpm.events)),"")} | AB34: {=IFERROR(_xlfn.LET(_xlpm.events, _xlfn._xlws.FILTER(Plan[Activity],Plan[Date]=Calc!AB16), _xlpm.ic, _xlfn.XLOOKUP(_xlfn._xlws.FILTER(Plan[Type], Plan[Date]=AB16,"x"), icons[Type], icons[Icon]), _xlfn.TEXTJOIN(CHAR(10),TRUE, _xlpm.ic&_xlpm.events)),"")} | AC34: {=IFERROR(_xlfn.LET(_xlpm.events, _xlfn._xlws.FILTER(Plan[Activity],Plan[Date]=Calc!AC16), _xlpm.ic, _xlfn.XLOOKUP(_xlfn._xlws.FILTER(Plan[Type], Plan[Date]=AC16,"x"), icons[Type], icons[Icon]), _xlfn.TEXTJOIN(CHAR(10),TRUE, _xlpm.ic&_xlpm.events)),"")} | AD34: {=IFERROR(_xlfn.LET(_xlpm.events, _xlfn._xlws.FILTER(Plan[Activity],Plan[Date]=Calc!AD16), _xlpm.ic, _xlfn.XLOOKUP(_xlfn._xlws.FILTER(Plan[Type], Plan[Date]=AD16,"x"), icons[Type], icons[Icon]), _xlfn.TEXTJOIN(CHAR(10),TRUE, _xlpm.ic&_xlpm.events)),"")} | AE34: {=IFERROR(_xlfn.LET(_xlpm.events, _xlfn._xlws.FILTER(Plan[Activity],Plan[Date]=Calc!AE16), _xlpm.ic, _xlfn.XLOOKUP(_xlfn._xlws.FILTER(Plan[Type], Plan[Date]=AE16,"x"), icons[Type], icons[Icon]), _xlfn.TEXTJOIN(CHAR(10),TRUE, _xlpm.ic&_xlpm.events)),"")} | AF34: {=IFERROR(_xlfn.LET(_xlpm.events, _xlfn._xlws.FILTER(Plan[Activity],Plan[Date]=Calc!AF16), _xlpm.ic, _xlfn.XLOOKUP(_xlfn._xlws.FILTER(Plan[Type], Plan[Date]=AF16,"x"), icons[Type], icons[Icon]), _xlfn.TEXTJOIN(CHAR(10),TRUE, _xlpm.ic&_xlpm.events)),"")}
C35: =C34 -> 4 | D35: 46139 | E35: 46140 | F35: 46141 | G35: 46142 | H35: 46143 | I35: 46144 | J35: 46145 | K35: =WEEKNUM(D35,10+week.start) -> 18 | R35: =_xlfn.XLOOKUP(P35,icons[Type],icons[Icon],"") | S35: =IF(N35=0,"",TEXT(N35,"d-mmm")&": "&O35) | Z35: {=IFERROR(_xlfn.LET(_xlpm.events, _xlfn._xlws.FILTER(Plan[Activity],Plan[Date]=Calc!Z17), _xlpm.ic, _xlfn.XLOOKUP(_xlfn._xlws.FILTER(Plan[Type], Plan[Date]=Z17,"x"), icons[Type], icons[Icon]), _xlfn.TEXTJOIN(CHAR(10),TRUE, _xlpm.ic&_xlpm.events)),"")} | AA35: {=IFERROR(_xlfn.LET(_xlpm.events, _xlfn._xlws.FILTER(Plan[Activity],Plan[Date]=Calc!AA17), _xlpm.ic, _xlfn.XLOOKUP(_xlfn._xlws.FILTER(Plan[Type], Plan[Date]=AA17,"x"), icons[Type], icons[Icon]), _xlfn.TEXTJOIN(CHAR(10),TRUE, _xlpm.ic&_xlpm.events)),"")} | AB35: {=IFERROR(_xlfn.LET(_xlpm.events, _xlfn._xlws.FILTER(Plan[Activity],Plan[Date]=Calc!AB17), _xlpm.ic, _xlfn.XLOOKUP(_xlfn._xlws.FILTER(Plan[Type], Plan[Date]=AB17,"x"), icons[Type], icons[Icon]), _xlfn.TEXTJOIN(CHAR(10),TRUE, _xlpm.ic&_xlpm.events)),"")} | AC35: {=IFERROR(_xlfn.LET(_xlpm.events, _xlfn._xlws.FILTER(Plan[Activity],Plan[Date]=Calc!AC17), _xlpm.ic, _xlfn.XLOOKUP(_xlfn._xlws.FILTER(Plan[Type], Plan[Date]=AC17,"x"), icons[Type], icons[Icon]), _xlfn.TEXTJOIN(CHAR(10),TRUE, _xlpm.ic&_xlpm.events)),"")} | AD35: {=IFERROR(_xlfn.LET(_xlpm.events, _xlfn._xlws.FILTER(Plan[Activity],Plan[Date]=Calc!AD17), _xlpm.ic, _xlfn.XLOOKUP(_xlfn._xlws.FILTER(Plan[Type], Plan[Date]=AD17,"x"), icons[Type], icons[Icon]), _xlfn.TEXTJOIN(CHAR(10),TRUE, _xlpm.ic&_xlpm.events)),"")} | AE35: {=IFERROR(_xlfn.LET(_xlpm.events, _xlfn._xlws.FILTER(Plan[Activity],Plan[Date]=Calc!AE17), _xlpm.ic, _xlfn.XLOOKUP(_xlfn._xlws.FILTER(Plan[Type], Plan[Date]=AE17,"x"), icons[Type], icons[Icon]), _xlfn.TEXTJOIN(CHAR(10),TRUE, _xlpm.ic&_xlpm.events)),"")} | AF35: {=IFERROR(_xlfn.LET(_xlpm.events, _xlfn._xlws.FILTER(Plan[Activity],Plan[Date]=Calc!AF17), _xlpm.ic, _xlfn.XLOOKUP(_xlfn._xlws.FILTER(Plan[Type], Plan[Date]=AF17,"x"), icons[Type], icons[Icon]), _xlfn.TEXTJOIN(CHAR(10),TRUE, _xlpm.ic&_xlpm.events)),"")} | AS35: 46069 | AT35: 46070 | AU35: 46071 | AV35: 46072 | AW35: 46073 | AX35: 46074 | AY35: 46075
C36: =C35 -> 4 | D36: 46146 | E36: 46147 | F36: 46148 | G36: 46149 | H36: 46150 | I36: 46151 | J36: 46152 | K36: =WEEKNUM(D36,10+week.start) -> 19 | R36: =_xlfn.XLOOKUP(P36,icons[Type],icons[Icon],"") | S36: =IF(N36=0,"",TEXT(N36,"d-mmm")&": "&O36) | Z36: {=IFERROR(_xlfn.LET(_xlpm.events, _xlfn._xlws.FILTER(Plan[Activity],Plan[Date]=Calc!Z18), _xlpm.ic, _xlfn.XLOOKUP(_xlfn._xlws.FILTER(Plan[Type], Plan[Date]=Z18,"x"), icons[Type], icons[Icon]), _xlfn.TEXTJOIN(CHAR(10),TRUE, _xlpm.ic&_xlpm.events)),"")} | AA36: {=IFERROR(_xlfn.LET(_xlpm.events, _xlfn._xlws.FILTER(Plan[Activity],Plan[Date]=Calc!AA18), _xlpm.ic, _xlfn.XLOOKUP(_xlfn._xlws.FILTER(Plan[Type], Plan[Date]=AA18,"x"), icons[Type], icons[Icon]), _xlfn.TEXTJOIN(CHAR(10),TRUE, _xlpm.ic&_xlpm.events)),"")} | AB36: {=IFERROR(_xlfn.LET(_xlpm.events, _xlfn._xlws.FILTER(Plan[Activity],Plan[Date]=Calc!AB18), _xlpm.ic, _xlfn.XLOOKUP(_xlfn._xlws.FILTER(Plan[Type], Plan[Date]=AB18,"x"), icons[Type], icons[Icon]), _xlfn.TEXTJOIN(CHAR(10),TRUE, _xlpm.ic&_xlpm.events)),"")} | AC36: {=IFERROR(_xlfn.LET(_xlpm.events, _xlfn._xlws.FILTER(Plan[Activity],Plan[Date]=Calc!AC18), _xlpm.ic, _xlfn.XLOOKUP(_xlfn._xlws.FILTER(Plan[Type], Plan[Date]=AC18,"x"), icons[Type], icons[Icon]), _xlfn.TEXTJOIN(CHAR(10),TRUE, _xlpm.ic&_xlpm.events)),"")} | AD36: {=IFERROR(_xlfn.LET(_xlpm.events, _xlfn._xlws.FILTER(Plan[Activity],Plan[Date]=Calc!AD18), _xlpm.ic, _xlfn.XLOOKUP(_xlfn._xlws.FILTER(Plan[Type], Plan[Date]=AD18,"x"), icons[Type], icons[Icon]), _xlfn.TEXTJOIN(CHAR(10),TRUE, _xlpm.ic&_xlpm.events)),"")} | AE36: {=IFERROR(_xlfn.LET(_xlpm.events, _xlfn._xlws.FILTER(Plan[Activity],Plan[Date]=Calc!AE18), _xlpm.ic, _xlfn.XLOOKUP(_xlfn._xlws.FILTER(Plan[Type], Plan[Date]=AE18,"x"), icons[Type], icons[Icon]), _xlfn.TEXTJOIN(CHAR(10),TRUE, _xlpm.ic&_xlpm.events)),"")} | AF36: {=IFERROR(_xlfn.LET(_xlpm.events, _xlfn._xlws.FILTER(Plan[Activity],Plan[Date]=Calc!AF18), _xlpm.ic, _xlfn.XLOOKUP(_xlfn._xlws.FILTER(Plan[Type], Plan[Date]=AF18,"x"), icons[Type], icons[Icon]), _xlfn.TEXTJOIN(CHAR(10),TRUE, _xlpm.ic&_xlpm.events)),"")}
C37: =C31+1 -> 5 | D37: {=_xlfn.LET(_xlpm.mStart, DATE(cal.year, C37, 1), _xlpm.wDay, WEEKDAY(_xlpm.mStart, 10+week.start), _xlfn.SEQUENCE(6,7,_xlpm.mStart-_xlpm.wDay+1))} -> 46139 | E37: 46140 | F37: 46141 | G37: 46142 | H37: 46143 | I37: 46144 | J37: 46145 | K37: =WEEKNUM(D37,10+week.start) -> 18 | R37: =_xlfn.XLOOKUP(P37,icons[Type],icons[Icon],"") | S37: =IF(N37=0,"",TEXT(N37,"d-mmm")&": "&O37) | AJ37: {=_xlfn.MAP(_xlfn.ANCHORARRAY(AJ29), _xlfn.LAMBDA(_xlpm.a, IFERROR(_xlfn.LET(_xlpm.events, _xlfn._xlws.FILTER(Plan[Activity],Plan[Date]=_xlpm.a), _xlpm.ic, _xlfn.XLOOKUP(_xlfn._xlws.FILTER(Plan[Type], Plan[Date]=_xlpm.a,"x"), icons[Type], icons[Icon]), _xlfn.TEXTJOIN(CHAR(10),TRUE, _xlpm.ic&_xlpm.events)),"")))} | AS37: 46076 | AT37: 46077 | AU37: 46078 | AV37: 46079 | AW37: 46080 | AX37: 46081
C38: =C37 -> 5 | D38: 46146 | E38: 46147 | F38: 46148 | G38: 46149 | H38: 46150 | I38: 46151 | J38: 46152 | K38: =WEEKNUM(D38,10+week.start) -> 19
C39: =C38 -> 5 | D39: 46153 | E39: 46154 | F39: 46155 | G39: 46156 | H39: 46157 | I39: 46158 | J39: 46159 | K39: =WEEKNUM(D39,10+week.start) -> 20
C40: =C39 -> 5 | D40: 46160 | E40: 46161 | F40: 46162 | G40: 46163 | H40: 46164 | I40: 46165 | J40: 46166 | K40: =WEEKNUM(D40,10+week.start) -> 21
C41: =C40 -> 5 | D41: 46167 | E41: 46168 | F41: 46169 | G41: 46170 | H41: 46171 | I41: 46172 | J41: 46173 | K41: =WEEKNUM(D41,10+week.start) -> 22
C42: =C41 -> 5 | D42: 46174 | E42: 46175 | F42: 46176 | G42: 46177 | H42: 46178 | I42: 46179 | J42: 46180 | K42: =WEEKNUM(D42,10+week.start) -> 23
C43: =C37+1 -> 6 | D43: {=_xlfn.LET(_xlpm.mStart, DATE(cal.year, C43, 1), _xlpm.wDay, WEEKDAY(_xlpm.mStart, 10+week.start), _xlfn.SEQUENCE(6,7,_xlpm.mStart-_xlpm.wDay+1))} -> 46174 | E43: 46175 | F43: 46176 | G43: 46177 | H43: 46178 | I43: 46179 | J43: 46180 | K43: =WEEKNUM(D43,10+week.start) -> 23
C44: =C43 -> 6 | D44: 46181 | E44: 46182 | F44: 46183 | G44: 46184 | H44: 46185 | I44: 46186 | J44: 46187 | K44: =WEEKNUM(D44,10+week.start) -> 24
C45: =C44 -> 6 | D45: 46188 | E45: 46189 | F45: 46190 | G45: 46191 | H45: 46192 | I45: 46193 | J45: 46194 | K45: =WEEKNUM(D45,10+week.start) -> 25 | AI45: =AI29+1 -> 3 | AJ45: {=_xlfn.LET(_xlpm.dt, _xlfn._xlws.FILTER(monthly.calendar, month.nums=AI45), IF(MONTH(_xlpm.dt)<>AI45,"",_xlpm.dt))} | AP45: 46082 | AS45: {=_xlfn.WRAPROWS(_xlfn.TOCOL(_xlfn.HSTACK(_xlfn.ANCHORARRAY(AJ45),_xlfn.ANCHORARRAY(AJ53))),7)} | AY45: 46082
C46: =C45 -> 6 | D46: 46195 | E46: 46196 | F46: 46197 | G46: 46198 | H46: 46199 | I46: 46200 | J46: 46201 | K46: =WEEKNUM(D46,10+week.start) -> 26 | AJ46: 46083 | AK46: 46084 | AL46: 46085 | AM46: 46086 | AN46: 46087 | AO46: 46088 | AP46: 46089
C47: =C46 -> 6 | D47: 46202 | E47: 46203 | F47: 46204 | G47: 46205 | H47: 46206 | I47: 46207 | J47: 46208 | K47: =WEEKNUM(D47,10+week.start) -> 27 | AJ47: 46090 | AK47: 46091 | AL47: 46092 | AM47: 46093 | AN47: 46094 | AO47: 46095 | AP47: 46096 | AS47: 46083 | AT47: 46084 | AU47: 46085 | AV47: 46086 | AW47: 46087 | AX47: 46088 | AY47: 46089
C48: =C47 -> 6 | D48: 46209 | E48: 46210 | F48: 46211 | G48: 46212 | H48: 46213 | I48: 46214 | J48: 46215 | K48: =WEEKNUM(D48,10+week.start) -> 28 | AJ48: 46097 | AK48: 46098 | AL48: 46099 | AM48: 46100 | AN48: 46101 | AO48: 46102 | AP48: 46103 | AY48: 🛕Maha Shivaratri 🛕Maha Shivaratri 🛕Maha Shivaratri
C49: =C43+1 -> 7 | D49: {=_xlfn.LET(_xlpm.mStart, DATE(cal.year, C49, 1), _xlpm.wDay, WEEKDAY(_xlpm.mStart, 10+week.start), _xlfn.SEQUENCE(6,7,_xlpm.mStart-_xlpm.wDay+1))} -> 46202 | E49: 46203 | F49: 46204 | G49: 46205 | H49: 46206 | I49: 46207 | J49: 46208 | K49: =WEEKNUM(D49,10+week.start) -> 27 | AJ49: 46104 | AK49: 46105 | AL49: 46106 | AM49: 46107 | AN49: 46108 | AO49: 46109 | AP49: 46110 | AS49: 46090 | AT49: 46091 | AU49: 46092 | AV49: 46093 | AW49: 46094 | AX49: 46095 | AY49: 46096
C50: =C49 -> 7 | D50: 46209 | E50: 46210 | F50: 46211 | G50: 46212 | H50: 46213 | I50: 46214 | J50: 46215 | K50: =WEEKNUM(D50,10+week.start) -> 28 | AJ50: 46111 | AK50: 46112
C51: =C50 -> 7 | D51: 46216 | E51: 46217 | F51: 46218 | G51: 46219 | H51: 46220 | I51: 46221 | J51: 46222 | K51: =WEEKNUM(D51,10+week.start) -> 29 | AS51: 46097 | AT51: 46098 | AU51: 46099 | AV51: 46100 | AW51: 46101 | AX51: 46102 | AY51: 46103
C52: =C51 -> 7 | D52: 46223 | E52: 46224 | F52: 46225 | G52: 46226 | H52: 46227 | I52: 46228 | J52: 46229 | K52: =WEEKNUM(D52,10+week.start) -> 30
C53: =C52 -> 7 | D53: 46230 | E53: 46231 | F53: 46232 | G53: 46233 | H53: 46234 | I53: 46235 | J53: 46236 | K53: =WEEKNUM(D53,10+week.start) -> 31 | AJ53: {=_xlfn.MAP(_xlfn.ANCHORARRAY(AJ45), _xlfn.LAMBDA(_xlpm.a, IFERROR(_xlfn.LET(_xlpm.events, _xlfn._xlws.FILTER(Plan[Activity],Plan[Date]=_xlpm.a), _xlpm.ic, _xlfn.XLOOKUP(_xlfn._xlws.FILTER(Plan[Type], Plan[Date]=_xlpm.a,"x"), icons[Type], icons[Icon]), _xlfn.TEXTJOIN(CHAR(10),TRUE, _xlpm.ic&_xlpm.events)),"")))} | AS53: 46104 | AT53: 46105 | AU53: 46106 | AV53: 46107 | AW53: 46108 | AX53: 46109 | AY53: 46110
C54: =C53 -> 7 | D54: 46237 | E54: 46238 | F54: 46239 | G54: 46240 | H54: 46241 | I54: 46242 | J54: 46243 | K54: =WEEKNUM(D54,10+week.start) -> 32 | AP54: 🛕Maha Shivaratri 🛕Maha Shivaratri 🛕Maha Shivaratri
C55: =C49+1 -> 8 | D55: {=_xlfn.LET(_xlpm.mStart, DATE(cal.year, C55, 1), _xlpm.wDay, WEEKDAY(_xlpm.mStart, 10+week.start), _xlfn.SEQUENCE(6,7,_xlpm.mStart-_xlpm.wDay+1))} -> 46230 | E55: 46231 | F55: 46232 | G55: 46233 | H55: 46234 | I55: 46235 | J55: 46236 | K55: =WEEKNUM(D55,10+week.start) -> 31 | AS55: 46111 | AT55: 46112
C56: =C55 -> 8 | D56: 46237 | E56: 46238 | F56: 46239 | G56: 46240 | H56: 46241 | I56: 46242 | J56: 46243 | K56: =WEEKNUM(D56,10+week.start) -> 32
C57: =C56 -> 8 | D57: 46244 | E57: 46245 | F57: 46246 | G57: 46247 | H57: 46248 | I57: 46249 | J57: 46250 | K57: =WEEKNUM(D57,10+week.start) -> 33
C58: =C57 -> 8 | D58: 46251 | E58: 46252 | F58: 46253 | G58: 46254 | H58: 46255 | I58: 46256 | J58: 46257 | K58: =WEEKNUM(D58,10+week.start) -> 34
C59: =C58 -> 8 | D59: 46258 | E59: 46259 | F59: 46260 | G59: 46261 | H59: 46262 | I59: 46263 | J59: 46264 | K59: =WEEKNUM(D59,10+week.start) -> 35
C60: =C59 -> 8 | D60: 46265 | E60: 46266 | F60: 46267 | G60: 46268 | H60: 46269 | I60: 46270 | J60: 46271 | K60: =WEEKNUM(D60,10+week.start) -> 36
C61: =C55+1 -> 9 | D61: {=_xlfn.LET(_xlpm.mStart, DATE(cal.year, C61, 1), _xlpm.wDay, WEEKDAY(_xlpm.mStart, 10+week.start), _xlfn.SEQUENCE(6,7,_xlpm.mStart-_xlpm.wDay+1))} -> 46265 | E61: 46266 | F61: 46267 | G61: 46268 | H61: 46269 | I61: 46270 | J61: 46271 | K61: =WEEKNUM(D61,10+week.start) -> 36 | AI61: =AI45+1 -> 4 | AJ61: {=_xlfn.LET(_xlpm.dt, _xlfn._xlws.FILTER(monthly.calendar, month.nums=AI61), IF(MONTH(_xlpm.dt)<>AI61,"",_xlpm.dt))} | AL61: 46113 | AM61: 46114 | AN61: 46115 | AO61: 46116 | AP61: 46117 | AS61: {=_xlfn.WRAPROWS(_xlfn.TOCOL(_xlfn.HSTACK(_xlfn.ANCHORARRAY(AJ61),_xlfn.ANCHORARRAY(AJ69))),7)} | AU61: 46113 | AV61: 46114 | AW61: 46115 | AX61: 46116 | AY61: 46117
C62: =C61 -> 9 | D62: 46272 | E62: 46273 | F62: 46274 | G62: 46275 | H62: 46276 | I62: 46277 | J62: 46278 | K62: =WEEKNUM(D62,10+week.start) -> 37 | AJ62: 46118 | AK62: 46119 | AL62: 46120 | AM62: 46121 | AN62: 46122 | AO62: 46123 | AP62: 46124
C63: =C62 -> 9 | D63: 46279 | E63: 46280 | F63: 46281 | G63: 46282 | H63: 46283 | I63: 46284 | J63: 46285 | K63: =WEEKNUM(D63,10+week.start) -> 38 | AJ63: 46125 | AK63: 46126 | AL63: 46127 | AM63: 46128 | AN63: 46129 | AO63: 46130 | AP63: 46131 | AS63: 46118 | AT63: 46119 | AU63: 46120 | AV63: 46121 | AW63: 46122 | AX63: 46123 | AY63: 46124
C64: =C63 -> 9 | D64: 46286 | E64: 46287 | F64: 46288 | G64: 46289 | H64: 46290 | I64: 46291 | J64: 46292 | K64: =WEEKNUM(D64,10+week.start) -> 39 | AJ64: 46132 | AK64: 46133 | AL64: 46134 | AM64: 46135 | AN64: 46136 | AO64: 46137 | AP64: 46138
C65: =C64 -> 9 | D65: 46293 | E65: 46294 | F65: 46295 | G65: 46296 | H65: 46297 | I65: 46298 | J65: 46299 | K65: =WEEKNUM(D65,10+week.start) -> 40 | AJ65: 46139 | AK65: 46140 | AL65: 46141 | AM65: 46142 | AS65: 46125 | AT65: 46126 | AU65: 46127 | AV65: 46128 | AW65: 46129 | AX65: 46130 | AY65: 46131
C66: =C65 -> 9 | D66: 46300 | E66: 46301 | F66: 46302 | G66: 46303 | H66: 46304 | I66: 46305 | J66: 46306 | K66: =WEEKNUM(D66,10+week.start) -> 41 | AU66: 🛕Rama Navami 🛕Rama Navami 🛕Rama Navami
C67: =C61+1 -> 10 | D67: {=_xlfn.LET(_xlpm.mStart, DATE(cal.year, C67, 1), _xlpm.wDay, WEEKDAY(_xlpm.mStart, 10+week.start), _xlfn.SEQUENCE(6,7,_xlpm.mStart-_xlpm.wDay+1))} -> 46293 | E67: 46294 | F67: 46295 | G67: 46296 | H67: 46297 | I67: 46298 | J67: 46299 | K67: =WEEKNUM(D67,10+week.start) -> 40 | AS67: 46132 | AT67: 46133 | AU67: 46134 | AV67: 46135 | AW67: 46136 | AX67: 46137 | AY67: 46138
C68: =C67 -> 10 | D68: 46300 | E68: 46301 | F68: 46302 | G68: 46303 | H68: 46304 | I68: 46305 | J68: 46306 | K68: =WEEKNUM(D68,10+week.start) -> 41
C69: =C68 -> 10 | D69: 46307 | E69: 46308 | F69: 46309 | G69: 46310 | H69: 46311 | I69: 46312 | J69: 46313 | K69: =WEEKNUM(D69,10+week.start) -> 42 | AJ69: {=_xlfn.MAP(_xlfn.ANCHORARRAY(AJ61), _xlfn.LAMBDA(_xlpm.a, IFERROR(_xlfn.LET(_xlpm.events, _xlfn._xlws.FILTER(Plan[Activity],Plan[Date]=_xlpm.a), _xlpm.ic, _xlfn.XLOOKUP(_xlfn._xlws.FILTER(Plan[Type], Plan[Date]=_xlpm.a,"x"), icons[Type], icons[Icon]), _xlfn.TEXTJOIN(CHAR(10),TRUE, _xlpm.ic&_xlpm.events)),"")))} | AS69: 46139 | AT69: 46140 | AU69: 46141 | AV69: 46142
C70: =C69 -> 10 | D70: 46314 | E70: 46315 | F70: 46316 | G70: 46317 | H70: 46318 | I70: 46319 | J70: 46320 | K70: =WEEKNUM(D70,10+week.start) -> 43
C71: =C70 -> 10 | D71: 46321 | E71: 46322 | F71: 46323 | G71: 46324 | H71: 46325 | I71: 46326 | J71: 46327 | K71: =WEEKNUM(D71,10+week.start) -> 44 | AL71: 🛕Rama Navami 🛕Rama Navami 🛕Rama Navami
C72: =C71 -> 10 | D72: 46328 | E72: 46329 | F72: 46330 | G72: 46331 | H72: 46332 | I72: 46333 | J72: 46334 | K72: =WEEKNUM(D72,10+week.start) -> 45
C73: =C67+1 -> 11 | D73: {=_xlfn.LET(_xlpm.mStart, DATE(cal.year, C73, 1), _xlpm.wDay, WEEKDAY(_xlpm.mStart, 10+week.start), _xlfn.SEQUENCE(6,7,_xlpm.mStart-_xlpm.wDay+1))} -> 46321 | E73: 46322 | F73: 46323 | G73: 46324 | H73: 46325 | I73: 46326 | J73: 46327 | K73: =WEEKNUM(D73,10+week.start) -> 44
C74: =C73 -> 11 | D74: 46328 | E74: 46329 | F74: 46330 | G74: 46331 | H74: 46332 | I74: 46333 | J74: 46334 | K74: =WEEKNUM(D74,10+week.start) -> 45
C75: =C74 -> 11 | D75: 46335 | E75: 46336 | F75: 46337 | G75: 46338 | H75: 46339 | I75: 46340 | J75: 46341 | K75: =WEEKNUM(D75,10+week.start) -> 46
C76: =C75 -> 11 | D76: 46342 | E76: 46343 | F76: 46344 | G76: 46345 | H76: 46346 | I76: 46347 | J76: 46348 | K76: =WEEKNUM(D76,10+week.start) -> 47
C77: =C76 -> 11 | D77: 46349 | E77: 46350 | F77: 46351 | G77: 46352 | H77: 46353 | I77: 46354 | J77: 46355 | K77: =WEEKNUM(D77,10+week.start) -> 48 | AI77: =AI61+1 -> 5 | AJ77: {=_xlfn.LET(_xlpm.dt, _xlfn._xlws.FILTER(monthly.calendar, month.nums=AI77), IF(MONTH(_xlpm.dt)<>AI77,"",_xlpm.dt))} | AN77: 46143 | AO77: 46144 | AP77: 46145 | AS77: {=_xlfn.WRAPROWS(_xlfn.TOCOL(_xlfn.HSTACK(_xlfn.ANCHORARRAY(AJ77),_xlfn.ANCHORARRAY(AJ85))),7)} | AW77: 46143 | AX77: 46144 | AY77: 46145
C78: =C77 -> 11 | D78: 46356 | E78: 46357 | F78: 46358 | G78: 46359 | H78: 46360 | I78: 46361 | J78: 46362 | K78: =WEEKNUM(D78,10+week.start) -> 49 | AJ78: 46146 | AK78: 46147 | AL78: 46148 | AM78: 46149 | AN78: 46150 | AO78: 46151 | AP78: 46152
C79: =C73+1 -> 12 | D79: {=_xlfn.LET(_xlpm.mStart, DATE(cal.year, C79, 1), _xlpm.wDay, WEEKDAY(_xlpm.mStart, 10+week.start), _xlfn.SEQUENCE(6,7,_xlpm.mStart-_xlpm.wDay+1))} -> 46356 | E79: 46357 | F79: 46358 | G79: 46359 | H79: 46360 | I79: 46361 | J79: 46362 | K79: =WEEKNUM(D79,10+week.start) -> 49 | AJ79: 46153 | AK79: 46154 | AL79: 46155 | AM79: 46156 | AN79: 46157 | AO79: 46158 | AP79: 46159 | AS79: 46146 | AT79: 46147 | AU79: 46148 | AV79: 46149 | AW79: 46150 | AX79: 46151 | AY79: 46152
C80: =C79 -> 12 | D80: 46363 | E80: 46364 | F80: 46365 | G80: 46366 | H80: 46367 | I80: 46368 | J80: 46369 | K80: =WEEKNUM(D80,10+week.start) -> 50 | AJ80: 46160 | AK80: 46161 | AL80: 46162 | AM80: 46163 | AN80: 46164 | AO80: 46165 | AP80: 46166
C81: =C80 -> 12 | D81: 46370 | E81: 46371 | F81: 46372 | G81: 46373 | H81: 46374 | I81: 46375 | J81: 46376 | K81: =WEEKNUM(D81,10+week.start) -> 51 | AJ81: 46167 | AK81: 46168 | AL81: 46169 | AM81: 46170 | AN81: 46171 | AO81: 46172 | AP81: 46173 | AS81: 46153 | AT81: 46154 | AU81: 46155 | AV81: 46156 | AW81: 46157 | AX81: 46158 | AY81: 46159
C82: =C81 -> 12 | D82: 46377 | E82: 46378 | F82: 46379 | G82: 46380 | H82: 46381 | I82: 46382 | J82: 46383 | K82: =WEEKNUM(D82,10+week.start) -> 52
C83: =C82 -> 12 | D83: 46384 | E83: 46385 | F83: 46386 | G83: 46387 | H83: 46388 | I83: 46389 | J83: 46390 | K83: =WEEKNUM(D83,10+week.start) -> 53 | AS83: 46160 | AT83: 46161 | AU83: 46162 | AV83: 46163 | AW83: 46164 | AX83: 46165 | AY83: 46166
C84: =C83 -> 12 | D84: 46391 | E84: 46392 | F84: 46393 | G84: 46394 | H84: 46395 | I84: 46396 | J84: 46397 | K84: =WEEKNUM(D84,10+week.start) -> 2
AJ85: {=_xlfn.MAP(_xlfn.ANCHORARRAY(AJ77), _xlfn.LAMBDA(_xlpm.a, IFERROR(_xlfn.LET(_xlpm.events, _xlfn._xlws.FILTER(Plan[Activity],Plan[Date]=_xlpm.a), _xlpm.ic, _xlfn.XLOOKUP(_xlfn._xlws.FILTER(Plan[Type], Plan[Date]=_xlpm.a,"x"), icons[Type], icons[Icon]), _xlfn.TEXTJOIN(CHAR(10),TRUE, _xlpm.ic&_xlpm.events)),"")))} | AS85: 46167 | AT85: 46168 | AU85: 46169 | AV85: 46170 | AW85: 46171 | AX85: 46172 | AY85: 46173
AI93: =AI77+1 -> 6 | AJ93: {=_xlfn.LET(_xlpm.dt, _xlfn._xlws.FILTER(monthly.calendar, month.nums=AI93), IF(MONTH(_xlpm.dt)<>AI93,"",_xlpm.dt))} -> 46174 | AK93: 46175 | AL93: 46176 | AM93: 46177 | AN93: 46178 | AO93: 46179 | AP93: 46180 | AS93: {=_xlfn.WRAPROWS(_xlfn.TOCOL(_xlfn.HSTACK(_xlfn.ANCHORARRAY(AJ93),_xlfn.ANCHORARRAY(AJ101))),7)} -> 46174 | AT93: 46175 | AU93: 46176 | AV93: 46177 | AW93: 46178 | AX93: 46179 | AY93: 46180
AJ94: 46181 | AK94: 46182 | AL94: 46183 | AM94: 46184 | AN94: 46185 | AO94: 46186 | AP94: 46187
AJ95: 46188 | AK95: 46189 | AL95: 46190 | AM95: 46191 | AN95: 46192 | AO95: 46193 | AP95: 46194 | AS95: 46181 | AT95: 46182 | AU95: 46183 | AV95: 46184 | AW95: 46185 | AX95: 46186 | AY95: 46187
AJ96: 46195 | AK96: 46196 | AL96: 46197 | AM96: 46198 | AN96: 46199 | AO96: 46200 | AP96: 46201
AJ97: 46202 | AK97: 46203 | AS97: 46188 | AT97: 46189 | AU97: 46190 | AV97: 46191 | AW97: 46192 | AX97: 46193 | AY97: 46194
AS99: 46195 | AT99: 46196 | AU99: 46197 | AV99: 46198 | AW99: 46199 | AX99: 46200 | AY99: 46201
AJ101: {=_xlfn.MAP(_xlfn.ANCHORARRAY(AJ93), _xlfn.LAMBDA(_xlpm.a, IFERROR(_xlfn.LET(_xlpm.events, _xlfn._xlws.FILTER(Plan[Activity],Plan[Date]=_xlpm.a), _xlpm.ic, _xlfn.XLOOKUP(_xlfn._xlws.FILTER(Plan[Type], Plan[Date]=_xlpm.a,"x"), icons[Type], icons[Icon]), _xlfn.TEXTJOIN(CHAR(10),TRUE, _xlpm.ic&_xlpm.events)),"")))} | AS101: 46202 | AT101: 46203
AI109: =AI93+1 -> 7 | AJ109: {=_xlfn.LET(_xlpm.dt, _xlfn._xlws.FILTER(monthly.calendar, month.nums=AI109), IF(MONTH(_xlpm.dt)<>AI109,"",_xlpm.dt))} | AL109: 46204 | AM109: 46205 | AN109: 46206 | AO109: 46207 | AP109: 46208 | AS109: {=_xlfn.WRAPROWS(_xlfn.TOCOL(_xlfn.HSTACK(_xlfn.ANCHORARRAY(AJ109),_xlfn.ANCHORARRAY(AJ117))),7)} | AU109: 46204 | AV109: 46205 | AW109: 46206 | AX109: 46207 | AY109: 46208
AJ110: 46209 | AK110: 46210 | AL110: 46211 | AM110: 46212 | AN110: 46213 | AO110: 46214 | AP110: 46215
AJ111: 46216 | AK111: 46217 | AL111: 46218 | AM111: 46219 | AN111: 46220 | AO111: 46221 | AP111: 46222 | AS111: 46209 | AT111: 46210 | AU111: 46211 | AV111: 46212 | AW111: 46213 | AX111: 46214 | AY111: 46215
AJ112: 46223 | AK112: 46224 | AL112: 46225 | AM112: 46226 | AN112: 46227 | AO112: 46228 | AP112: 46229
AJ113: 46230 | AK113: 46231 | AL113: 46232 | AM113: 46233 | AN113: 46234 | AS113: 46216 | AT113: 46217 | AU113: 46218 | AV113: 46219 | AW113: 46220 | AX113: 46221 | AY113: 46222
AS115: 46223 | AT115: 46224 | AU115: 46225 | AV115: 46226 | AW115: 46227 | AX115: 46228 | AY115: 46229
AJ117: {=_xlfn.MAP(_xlfn.ANCHORARRAY(AJ109), _xlfn.LAMBDA(_xlpm.a, IFERROR(_xlfn.LET(_xlpm.events, _xlfn._xlws.FILTER(Plan[Activity],Plan[Date]=_xlpm.a), _xlpm.ic, _xlfn.XLOOKUP(_xlfn._xlws.FILTER(Plan[Type], Plan[Date]=_xlpm.a,"x"), icons[Type], icons[Icon]), _xlfn.TEXTJOIN(CHAR(10),TRUE, _xlpm.ic&_xlpm.events)),"")))} | AS117: 46230 | AT117: 46231 | AU117: 46232 | AV117: 46233 | AW117: 46234
AI125: =AI109+1 -> 8 | AJ125: {=_xlfn.LET(_xlpm.dt, _xlfn._xlws.FILTER(monthly.calendar, month.nums=AI125), IF(MONTH(_xlpm.dt)<>AI125,"",_xlpm.dt))} | AO125: 46235 | AP125: 46236 | AS125: {=_xlfn.WRAPROWS(_xlfn.TOCOL(_xlfn.HSTACK(_xlfn.ANCHORARRAY(AJ125),_xlfn.ANCHORARRAY(AJ133))),7)} | AX125: 46235 | AY125: 46236
AJ126: 46237 | AK126: 46238 | AL126: 46239 | AM126: 46240 | AN126: 46241 | AO126: 46242 | AP126: 46243
AJ127: 46244 | AK127: 46245 | AL127: 46246 | AM127: 46247 | AN127: 46248 | AO127: 46249 | AP127: 46250 | AS127: 46237 | AT127: 46238 | AU127: 46239 | AV127: 46240 | AW127: 46241 | AX127: 46242 | AY127: 46243
AJ128: 46251 | AK128: 46252 | AL128: 46253 | AM128: 46254 | AN128: 46255 | AO128: 46256 | AP128: 46257
AJ129: 46258 | AK129: 46259 | AL129: 46260 | AM129: 46261 | AN129: 46262 | AO129: 46263 | AP129: 46264 | AS129: 46244 | AT129: 46245 | AU129: 46246 | AV129: 46247 | AW129: 46248 | AX129: 46249 | AY129: 46250
AJ130: 46265 | AU130: 🛕Varalaxmi Vratham 🛕Varalaxmi Vratham 🛕Varalaxmi Vratham
AS131: 46251 | AT131: 46252 | AU131: 46253 | AV131: 46254 | AW131: 46255 | AX131: 46256 | AY131: 46257
AJ133: {=_xlfn.MAP(_xlfn.ANCHORARRAY(AJ125), _xlfn.LAMBDA(_xlpm.a, IFERROR(_xlfn.LET(_xlpm.events, _xlfn._xlws.FILTER(Plan[Activity],Plan[Date]=_xlpm.a), _xlpm.ic, _xlfn.XLOOKUP(_xlfn._xlws.FILTER(Plan[Type], Plan[Date]=_xlpm.a,"x"), icons[Type], icons[Icon]), _xlfn.TEXTJOIN(CHAR(10),TRUE, _xlpm.ic&_xlpm.events)),"")))} | AS133: 46258 | AT133: 46259 | AU133: 46260 | AV133: 46261 | AW133: 46262 | AX133: 46263 | AY133: 46264
...
